BEGIN:VCALENDAR
VERSION:2.0
PRODID:-//DiSerHub - ECPv6.15.20//NONSGML v1.0//EN
CALSCALE:GREGORIAN
METHOD:PUBLISH
X-ORIGINAL-URL:https://diserhub.de
X-WR-CALDESC:Veranstaltungen für DiSerHub
REFRESH-INTERVAL;VALUE=DURATION:PT1H
X-Robots-Tag:noindex
X-PUBLISHED-TTL:PT1H
BEGIN:VTIMEZONE
TZID:Europe/Berlin
BEGIN:DAYLIGHT
TZOFFSETFROM:+0100
TZOFFSETTO:+0200
TZNAME:CEST
DTSTART:20230326T010000
END:DAYLIGHT
BEGIN:STANDARD
TZOFFSETFROM:+0200
TZOFFSETTO:+0100
TZNAME:CET
DTSTART:20231029T010000
END:STANDARD
BEGIN:DAYLIGHT
TZOFFSETFROM:+0100
TZOFFSETTO:+0200
TZNAME:CEST
DTSTART:20240331T010000
END:DAYLIGHT
BEGIN:STANDARD
TZOFFSETFROM:+0200
TZOFFSETTO:+0100
TZNAME:CET
DTSTART:20241027T010000
END:STANDARD
BEGIN:DAYLIGHT
TZOFFSETFROM:+0100
TZOFFSETTO:+0200
TZNAME:CEST
DTSTART:20250330T010000
END:DAYLIGHT
BEGIN:STANDARD
TZOFFSETFROM:+0200
TZOFFSETTO:+0100
TZNAME:CET
DTSTART:20251026T010000
END:STANDARD
END:VTIMEZONE
BEGIN:VEVENT
DTSTART;TZID=Europe/Berlin:20240308T100000
DTEND;TZID=Europe/Berlin:20240308T114500
DTSTAMP:20260426T023310
CREATED:20240216T140643Z
LAST-MODIFIED:20240216T140643Z
UID:4497-1709892000-1709898300@diserhub.de
SUMMARY:Automatisiertes und vernetztes Fahren in Kommunen - Potenziale und Umsetzung
DESCRIPTION:Automatisiertes und vernetztes Fahren (AVF) birgt großes Potenzial\, auch für das kommunale Verkehrsmanagement. Von automatisiertem On-Demand Verkehr\, ÖPNV-Beschleunigung oder der Priorisierung von Einsatzfahrzeugen bietet AVF zahlreiche Chancen\, um den Verkehr im urbanen Raum effizienter und sicherer zu gestalten. Das setzt u.a. eine intelligente Vernetzung der Verkehrsinfrastruktur und den Einsatz innovativer Verkehrssensorik voraus. Gerade für Kommunen sind Erfahrungen und Best-Practices aus laufenden und abgeschlossenen Projekten wichtig. In diesem Zusammenhang werden wir auf dieser Veranstaltung auf die Ergebnisse des TEMPUS-Projekts und den Nachfolger MINGA der Landeshauptstadt München eingehen. Zudem erfahren wir durch das Forschungsprojekt KIVI der Stadt Ingolstadt\, wie der Einsatz moderner Sensorik und KI die Verkehrssteuerung im städtischen Umfeld verbessern kann. \nIm Anschluss an die Vorträge\, stellt das Förderlotsen Team der Bayern Innovativ relevante Förderprogramme vor\, die sich mit den Inhalten der Veranstaltung decken. \nDie Veranstaltung findet online statt.\nFür Fragen und Antworten ist nach den Vorträgen ausreichend Zeit für Sie eingeplant. \nWir freuen uns auf Ihre aktive Teilnahme und Ihre Diskussionsbeiträge.
URL:https://diserhub.de/veranstaltung/automatisiertes-und-vernetztes-fahren-in-kommunen-potenziale-und-umsetzung/
LOCATION:Online
ATTACH;FMTTYPE=image/png:https://diserhub.de/wp-content/uploads/2024/02/ff-62978e8b943b176fb4fce843a7045fce-ff-Bild1.png
ORGANIZER;CN="Bayern Innovativ GmbH":MAILTO:simone.voelker@bayern-innovativ.de
END:VEVENT
END:VCALENDAR