BEGIN:VCALENDAR
VERSION:2.0
PRODID:-//DiSerHub - ECPv6.15.20//NONSGML v1.0//EN
CALSCALE:GREGORIAN
METHOD:PUBLISH
X-WR-CALNAME:DiSerHub
X-ORIGINAL-URL:https://diserhub.de
X-WR-CALDESC:Veranstaltungen für DiSerHub
REFRESH-INTERVAL;VALUE=DURATION:PT1H
X-Robots-Tag:noindex
X-PUBLISHED-TTL:PT1H
BEGIN:VTIMEZONE
TZID:Europe/Berlin
BEGIN:DAYLIGHT
TZOFFSETFROM:+0100
TZOFFSETTO:+0200
TZNAME:CEST
DTSTART:20230326T010000
END:DAYLIGHT
BEGIN:STANDARD
TZOFFSETFROM:+0200
TZOFFSETTO:+0100
TZNAME:CET
DTSTART:20231029T010000
END:STANDARD
BEGIN:DAYLIGHT
TZOFFSETFROM:+0100
TZOFFSETTO:+0200
TZNAME:CEST
DTSTART:20240331T010000
END:DAYLIGHT
BEGIN:STANDARD
TZOFFSETFROM:+0200
TZOFFSETTO:+0100
TZNAME:CET
DTSTART:20241027T010000
END:STANDARD
BEGIN:DAYLIGHT
TZOFFSETFROM:+0100
TZOFFSETTO:+0200
TZNAME:CEST
DTSTART:20250330T010000
END:DAYLIGHT
BEGIN:STANDARD
TZOFFSETFROM:+0200
TZOFFSETTO:+0100
TZNAME:CET
DTSTART:20251026T010000
END:STANDARD
END:VTIMEZONE
BEGIN:VEVENT
DTSTART;VALUE=DATE:20240313
DTEND;VALUE=DATE:20240314
DTSTAMP:20260426T023150
CREATED:20240214T170431Z
LAST-MODIFIED:20240214T170431Z
UID:4483-1710288000-1710374399@diserhub.de
SUMMARY:Dienstleistungsforum
DESCRIPTION:Regelmäßiger Umsatz\, planbare Nachfrage sowie langfristige Kundenbindung – Sie begeben sich mit uns auf die Subscription-Journey\, um Ihre Ziele wahr werden zu lassen. Sie erleben beim Aachener Dienstleistungsforum 2024 – digital und kostenfrei – ausgewählte Referent:innen und innovative Lösungsanbieter. \n– Erfahren Sie alles über die neuesten Entwicklungen rund um die Transformation vom Produzenten hin zum digitalen Lösungsanbieter.\n– Erleben Sie neue Geschäftsmodelle und lernen Sie\, welche Methoden\, Tipps und Tools Sie auf Ihrer Reise griffbereit haben sollten
URL:https://diserhub.de/veranstaltung/dienstleistungsforum/
LOCATION:Online
ATTACH;FMTTYPE=image/png:https://diserhub.de/wp-content/uploads/2024/02/ff-52a95fdca7a303ae46c820ec07fcda65-ff-Unbenannt.png
END:VEVENT
BEGIN:VEVENT
DTSTART;TZID=Europe/Berlin:20240313T130000
DTEND;TZID=Europe/Berlin:20240313T170000
DTSTAMP:20260426T023150
CREATED:20240304T080026Z
LAST-MODIFIED:20240304T080255Z
UID:4913-1710334800-1710349200@diserhub.de
SUMMARY:TeamMit Live - Vernetzt. Mehrwert. Schaffen.
DESCRIPTION:Nachdem wir im letzten Jahr beim Auftakttreffen in Marburg unter anderem den Volkswagen CEO Thomas Schäfer zu Gast begrüßen konnten\, findet das diesjährige Treffen am zweiten Messetag der W3+ Fair in der BUDERUS-Arena in Wetzlar statt. \nSie erwarten:\nAus erster Hand – Impulse und Einblicke zur Transformation der Automobilindustrie \nRegionale Transformationsstrategie – „Was braucht die Region für erfolgreiche Transformation(en) ?“ – gemeinsame Weiterentwicklung in der Workshopphase \nGemeinsam – Kennenlernen\, Austauschen & Netzwerken \nAblauf: \n12 Uhr – Vorab: Automotive Messerundgang (ausgebucht) \n13 Uhr – Beginn der Veranstaltung an der en-tech Stage\nKeyNote von Analyst Jürgen Pieper\nEhem. Director Research und Senior Advisor Automobiles Bankhaus Metzler\nEinführung Entwicklung Transformationsstrategie Prof. Dr. Michael Stephan\nZwischenstand und BenchmarkinG \n14:30 Uhr – Workshopphase mit Barcamp zu den Themen:\nTechnologie\nQualifizierung\nNetzwerkstruktur \n16:30 Uhr – Ausklang & Netzwerken \nDer Zugang zur Messe und Veranstaltung ist kostenfrei – die Tickets für die Messe erhalten Sie ca. 1 Woche vor Beginn direkt vom Messe-Veranstalter\, so können Sie den vollen Umfang der Angebote nutzen.
URL:https://diserhub.de/veranstaltung/teammit-live-vernetzt-mehrwert-schaffen/
LOCATION:BUDERUS-Arena Wetzlar\, Wolfgang-Kühle-Straße 1\, Wetzlar\, 35576\, Deutschland
ATTACH;FMTTYPE=image/png:https://diserhub.de/wp-content/uploads/2024/03/ff-fcfcd4164ba22eb682f1a70c314d8fd1-ff-Flyer-DinALangPlus-Druck.png
ORGANIZER;CN="TeamMit Transformationsnetzwerk Mittelhessen":MAILTO:diessner@mittelhessen.org
END:VEVENT
BEGIN:VEVENT
DTSTART;TZID=Europe/Berlin:20240313T180000
DTEND;TZID=Europe/Berlin:20240313T210000
DTSTAMP:20260426T023150
CREATED:20240311T103759Z
LAST-MODIFIED:20240311T103759Z
UID:4508-1710352800-1710363600@diserhub.de
SUMMARY:Elektromobilität im Fokus - Chancen und Herausforderungen für China und Deutschland in einer sich wandelnden Welt
DESCRIPTION:Einladung zum Impulsvortrag mit anschließender Podiumsdiskussion! \nDie Veranstalter „Neue Mobilität Paderborn e.V.“ und das „Konfuzius Institut Paderborn“ laden herzlich am 13. März um 18:00 Uhr zum Impulsvortrag mit anschließender Podiumsdiskussion zum Thema „Elektromobilität im Fokus – Chancen und Herausforderungen für China und Deutschland in einer sich wandelnden Welt“ ein. \nFreut euch darauf von Quan Rong in seinem Impulsvortrag „Die Welle kommt – Können Chinas Elektroautos den europäischen Markt erobern?“ die neusten Entwicklungen aus China zu erfahren. Er beleuchtet die aktuellen Trends auf dem chinesischen Elektroautomarkt und diskutiert die Potenziale und Herausforderungen für chinesische Elektroautohersteller beim Einstieg in den europäischen Markt. \nDie anschließende Podiumsdiskussion bietet eine exzellente Gelegenheit\, sich über die neuesten Entwicklungen und Bewegungen im Bereich der Elektromobilität auszutauschen und wichtige Fragen zu diskutieren\, die die Zukunft der Mobilität in China und Deutschland prägen werden.
URL:https://diserhub.de/veranstaltung/elektromobilitaet-im-fokus-chancen-und-herausforderungen-fuer-china-und-deutschland-in-einer-sich-wandelnden-welt/
LOCATION:Zukunftsmeile 2\, Paderborn\, 33102\, Deutschland
ATTACH;FMTTYPE=image/jpeg:https://diserhub.de/wp-content/uploads/2024/02/michael-fousert-YhXlYJYlr3c-unsplash-scaled.jpg
END:VEVENT
END:VCALENDAR