BEGIN:VCALENDAR
VERSION:2.0
PRODID:-//DiSerHub - ECPv6.15.20//NONSGML v1.0//EN
CALSCALE:GREGORIAN
METHOD:PUBLISH
X-WR-CALNAME:DiSerHub
X-ORIGINAL-URL:https://diserhub.de
X-WR-CALDESC:Veranstaltungen für DiSerHub
REFRESH-INTERVAL;VALUE=DURATION:PT1H
X-Robots-Tag:noindex
X-PUBLISHED-TTL:PT1H
BEGIN:VTIMEZONE
TZID:Europe/Berlin
BEGIN:DAYLIGHT
TZOFFSETFROM:+0100
TZOFFSETTO:+0200
TZNAME:CEST
DTSTART:20230326T010000
END:DAYLIGHT
BEGIN:STANDARD
TZOFFSETFROM:+0200
TZOFFSETTO:+0100
TZNAME:CET
DTSTART:20231029T010000
END:STANDARD
BEGIN:DAYLIGHT
TZOFFSETFROM:+0100
TZOFFSETTO:+0200
TZNAME:CEST
DTSTART:20240331T010000
END:DAYLIGHT
BEGIN:STANDARD
TZOFFSETFROM:+0200
TZOFFSETTO:+0100
TZNAME:CET
DTSTART:20241027T010000
END:STANDARD
BEGIN:DAYLIGHT
TZOFFSETFROM:+0100
TZOFFSETTO:+0200
TZNAME:CEST
DTSTART:20250330T010000
END:DAYLIGHT
BEGIN:STANDARD
TZOFFSETFROM:+0200
TZOFFSETTO:+0100
TZNAME:CET
DTSTART:20251026T010000
END:STANDARD
END:VTIMEZONE
BEGIN:VEVENT
DTSTART;VALUE=DATE:20240416
DTEND;VALUE=DATE:20240418
DTSTAMP:20260426T005357
CREATED:20240214T163700Z
LAST-MODIFIED:20240214T163700Z
UID:4476-1713225600-1713398399@diserhub.de
SUMMARY:TuWAs Netzwerktage
DESCRIPTION:Die Automobilindustrie erlebt gegenwärtig einen tiefgreifenden Wandel\, getrieben von mehreren gleichzeitig wirkenden Trends. Unternehmen stehen vor der Herausforderung\, ihre Wertschöpfungsketten und Geschäftsmodelle zukunftsorientiert auszurichten\, insbesondere wenn sie bisher als Zulieferer der Automobilindustrie Teile für den Verbrennungsmotor produzieren und nun den Übergang zur E-Mobilität erfolgreich gestalten müssen. \nIn diesem Kontext laden wir Sie herzlich ein zur kostenfreien Veranstaltung von TuWAs\, dem Transformations-Hub für umformtechnische Wertschöpfungsketten im Antriebsstrang. Die TuWAs-Netzwerktage richten sich an Unternehmen in den Wertschöpfungsketten des Antriebsstrangs\, die vor der Herausforderung stehen\, ihre Produkte und Prozesse an die sich wandelnden Anforderungen der Automobilindustrie anzupassen.
URL:https://diserhub.de/veranstaltung/tuwas-netzwerktage/
LOCATION:Frauenhofer IWU\, Reichenhainer Straße 88\, Chemnitz\, 09126\, Deutschland
ATTACH;FMTTYPE=image/png:https://diserhub.de/wp-content/uploads/2024/02/ff-987f0b690c60177e11d2758c0028bbb1-ff-Netzwerktage_600x200_Datum.png
END:VEVENT
END:VCALENDAR