BEGIN:VCALENDAR
VERSION:2.0
PRODID:-//DiSerHub - ECPv6.15.20//NONSGML v1.0//EN
CALSCALE:GREGORIAN
METHOD:PUBLISH
X-WR-CALNAME:DiSerHub
X-ORIGINAL-URL:https://diserhub.de
X-WR-CALDESC:Veranstaltungen für DiSerHub
REFRESH-INTERVAL;VALUE=DURATION:PT1H
X-Robots-Tag:noindex
X-PUBLISHED-TTL:PT1H
BEGIN:VTIMEZONE
TZID:Europe/Berlin
BEGIN:DAYLIGHT
TZOFFSETFROM:+0100
TZOFFSETTO:+0200
TZNAME:CEST
DTSTART:20230326T010000
END:DAYLIGHT
BEGIN:STANDARD
TZOFFSETFROM:+0200
TZOFFSETTO:+0100
TZNAME:CET
DTSTART:20231029T010000
END:STANDARD
BEGIN:DAYLIGHT
TZOFFSETFROM:+0100
TZOFFSETTO:+0200
TZNAME:CEST
DTSTART:20240331T010000
END:DAYLIGHT
BEGIN:STANDARD
TZOFFSETFROM:+0200
TZOFFSETTO:+0100
TZNAME:CET
DTSTART:20241027T010000
END:STANDARD
BEGIN:DAYLIGHT
TZOFFSETFROM:+0100
TZOFFSETTO:+0200
TZNAME:CEST
DTSTART:20250330T010000
END:DAYLIGHT
BEGIN:STANDARD
TZOFFSETFROM:+0200
TZOFFSETTO:+0100
TZNAME:CET
DTSTART:20251026T010000
END:STANDARD
END:VTIMEZONE
BEGIN:VEVENT
DTSTART;TZID=Europe/Berlin:20240625T090000
DTEND;TZID=Europe/Berlin:20240625T160000
DTSTAMP:20260425T213617
CREATED:20240506T112551Z
LAST-MODIFIED:20240506T112811Z
UID:5427-1719306000-1719331200@diserhub.de
SUMMARY:Mobility with 6G - Advanced Connectivity for Future Mobility
DESCRIPTION:Erforschen Sie die Zukunft der Mobilität mit 6G – Nehmen Sie an unserer Netzwerkveranstaltung ‚Advanced Connectivity for Future Mobility‘ teil! \nErleben Sie die Spitze der Innovation im Bereich der vernetzten Mobilität bei unserer exklusiven Veranstaltung\, die von unserem Innovationsnetzwerk Vernetzte Mobilität und Thinknet 6G in Zusammenarbeit mit Wayra ausgerichtet wird. Tauchen Sie ein in die Welt der 5G- und 6G-Technologien und erforschen Sie deren transformatives Potenzial für V2X-Kommunikation\, Fernsteuerung von (teil-)autonomen Fahrzeugen und Platooning. \nEckdaten kurz zusammengefasst:\n– Das Event findet am 25. Juni 2024 in den Räumlichkeiten von Wayra – Kaufingerstraße 15\, 80331 München\, Deutschland – statt\n– Das Event wird in Englischer Sprache abgehalten\n– Das Event ist kostenfrei \nTauschen Sie sich mit führenden Branchenexperten\, darunter Vertreter von Nokia und DLR\, über Erkenntnisse\, Innovationen und Zukunftsprognosen auf dem Gebiet der vernetzten Mobilität aus. \nVerpassen Sie nicht die Gelegenheit\, die Zukunft des Verkehrs mitzugestalten – Sichern Sie sich noch heute Ihren Platz und seien Sie an der Spitze der Mobilitätsrevolution! \nWir freuen uns auf Sie! \n  \nBegrüßung – Bayern Innovativ & Wayra – Kimberley Parsons Trommler | Digitalisierung\, Leitung ThinkNet 6G – Nicolai Harnisch | Mobilität\, Leitung Vernetzte Mobilität – Matthias Hafner | Digitalisierung\, Projektmanager | Bayern Innovativ GmbH \nConnected Mobility – Pedestrians Included and Welcome! – Prof. Dr. Greta Köster und Prof. Dr. Lars Wischhof | Netzwerke\, Protokolle\, Dienste | Fakultät für Informatik und Mathematik | Hochschule München \nMobile Networks as a Key Enabler for the Connected Mobility of the Future – Dr. Simon C. Müller | Senior Technology Strategy Manager | Technology Strategy & Innovation | Telefónica Germany GmbH & Co. OHG \nConnected mobility in the context of automated driving from the perspective of digital infrastructure – Franz Schober | Geschäftsentwicklung und Standardisierung für vernetzte Mobilität | Yunex GmbH \nWireless Sensing for Vulnerable Road User Protection – Dr. Fabian de Ponte Müller| Research Associate for Vehicular Applications | DLR German Aerospace Center
URL:https://diserhub.de/veranstaltung/mobility-with-6g-advanced-connectivity-for-future-mobility/
LOCATION:Wayra Germany GmbH\, Kaufingerstraße 15\, München\, Bayern\, 80331\, Deutschland
ATTACH;FMTTYPE=image/png:https://diserhub.de/wp-content/uploads/2024/05/ff-6df3cbdebcf3973011640988102e6e24-ff-header-Event-MOB-6G.png
ORGANIZER;CN="Bayern Innovativ GmbH":MAILTO:simone.voelker@bayern-innovativ.de
END:VEVENT
END:VCALENDAR