BEGIN:VCALENDAR
VERSION:2.0
PRODID:-//DiSerHub - ECPv6.15.20//NONSGML v1.0//EN
CALSCALE:GREGORIAN
METHOD:PUBLISH
X-ORIGINAL-URL:https://diserhub.de
X-WR-CALDESC:Veranstaltungen für DiSerHub
REFRESH-INTERVAL;VALUE=DURATION:PT1H
X-Robots-Tag:noindex
X-PUBLISHED-TTL:PT1H
BEGIN:VTIMEZONE
TZID:Europe/Berlin
BEGIN:DAYLIGHT
TZOFFSETFROM:+0100
TZOFFSETTO:+0200
TZNAME:CEST
DTSTART:20230326T010000
END:DAYLIGHT
BEGIN:STANDARD
TZOFFSETFROM:+0200
TZOFFSETTO:+0100
TZNAME:CET
DTSTART:20231029T010000
END:STANDARD
BEGIN:DAYLIGHT
TZOFFSETFROM:+0100
TZOFFSETTO:+0200
TZNAME:CEST
DTSTART:20240331T010000
END:DAYLIGHT
BEGIN:STANDARD
TZOFFSETFROM:+0200
TZOFFSETTO:+0100
TZNAME:CET
DTSTART:20241027T010000
END:STANDARD
BEGIN:DAYLIGHT
TZOFFSETFROM:+0100
TZOFFSETTO:+0200
TZNAME:CEST
DTSTART:20250330T010000
END:DAYLIGHT
BEGIN:STANDARD
TZOFFSETFROM:+0200
TZOFFSETTO:+0100
TZNAME:CET
DTSTART:20251026T010000
END:STANDARD
END:VTIMEZONE
BEGIN:VEVENT
DTSTART;TZID=Europe/Berlin:20240828T100000
DTEND;TZID=Europe/Berlin:20240828T110000
DTSTAMP:20260425T162958
CREATED:20240731T124215Z
LAST-MODIFIED:20240820T084611Z
UID:5783-1724839200-1724842800@diserhub.de
SUMMARY:Software Defined Vehicle
DESCRIPTION:In diesem Online-Seminar geht es um die Auswirkungen des Trends zu „Software Defined Vehicles“ (SVD) auf den Entwicklungsprozess sowie den operativen Betrieb von Fahrzeugen. \nBesonderes Augenmerk legt der Referent Dirk Leopold\, Executive Vice President Digital Engineering in der itemis AG\, auf „Over the Air Updates“ und die Frage\, wie auch in diesem Kontext Safety und Security gewährleistet werden können. \nDarüber hinaus wird er auf die Herausforderungen eingehen\, die sich aus der technischen Komplexität und den vielschichtigen Abhängigkeiten der Aktivitäten ergeben. Abschließend wird ein methodischer Vorschlag unterbreitet\, wie OEMs und Zulieferer den Herausforderungen begegnen können.
URL:https://diserhub.de/veranstaltung/software-defined-vehicle/
LOCATION:Online
CATEGORIES:Online-Seminar
ATTACH;FMTTYPE=image/png:https://diserhub.de/wp-content/uploads/2024/07/Header-Webinar-itemis.png
END:VEVENT
BEGIN:VEVENT
DTSTART;TZID=Europe/Berlin:20240828T140000
DTEND;TZID=Europe/Berlin:20240828T150000
DTSTAMP:20260425T162958
CREATED:20240801T134937Z
LAST-MODIFIED:20240801T134937Z
UID:5788-1724853600-1724857200@diserhub.de
SUMMARY:Neue Kompetenzen durch Digitalisierungstrends in der Automobilindustrie
DESCRIPTION:Das Webinar konzentriert sich auf die Zukunft der Automobilindustrie und die damit verbundenen neuen Kompetenzen für Unternehmen und Beschäftigte. Es werden die Ergebnisse der CATI-Studie FastForward vorgestellt\, die einen Gesamtüberblick über Kompetenzprofile nach Berufs- und Produktgruppen bietet. Dabei steht die Digitalisierung als integraler Bestandteil des Strukturwandels in der Automobilindustrie im Vordergrund. Es werden neue Job-Profile diskutiert\, die durch die Digitalisierung entstehen\, wie z.B. Data Analysts\, Software-Entwickler und UX-Designer.
URL:https://diserhub.de/veranstaltung/neue-kompetenzen-durch-digitalisierungstrends-in-der-automobilindustrie-2/
LOCATION:Online
ATTACH;FMTTYPE=image/png:https://diserhub.de/wp-content/uploads/2024/02/Online-Seminar_3.png
END:VEVENT
END:VCALENDAR