BEGIN:VCALENDAR
VERSION:2.0
PRODID:-//DiSerHub - ECPv6.15.20//NONSGML v1.0//EN
CALSCALE:GREGORIAN
METHOD:PUBLISH
X-ORIGINAL-URL:https://diserhub.de
X-WR-CALDESC:Veranstaltungen für DiSerHub
REFRESH-INTERVAL;VALUE=DURATION:PT1H
X-Robots-Tag:noindex
X-PUBLISHED-TTL:PT1H
BEGIN:VTIMEZONE
TZID:Europe/Berlin
BEGIN:DAYLIGHT
TZOFFSETFROM:+0100
TZOFFSETTO:+0200
TZNAME:CEST
DTSTART:20230326T010000
END:DAYLIGHT
BEGIN:STANDARD
TZOFFSETFROM:+0200
TZOFFSETTO:+0100
TZNAME:CET
DTSTART:20231029T010000
END:STANDARD
BEGIN:DAYLIGHT
TZOFFSETFROM:+0100
TZOFFSETTO:+0200
TZNAME:CEST
DTSTART:20240331T010000
END:DAYLIGHT
BEGIN:STANDARD
TZOFFSETFROM:+0200
TZOFFSETTO:+0100
TZNAME:CET
DTSTART:20241027T010000
END:STANDARD
BEGIN:DAYLIGHT
TZOFFSETFROM:+0100
TZOFFSETTO:+0200
TZNAME:CEST
DTSTART:20250330T010000
END:DAYLIGHT
BEGIN:STANDARD
TZOFFSETFROM:+0200
TZOFFSETTO:+0100
TZNAME:CET
DTSTART:20251026T010000
END:STANDARD
END:VTIMEZONE
BEGIN:VEVENT
DTSTART;TZID=Europe/Berlin:20241008T090000
DTEND;TZID=Europe/Berlin:20241008T170000
DTSTAMP:20260425T143515
CREATED:20240829T092317Z
LAST-MODIFIED:20240829T092351Z
UID:5904-1728378000-1728406800@diserhub.de
SUMMARY:Hochautomatisiertes Fahren - Innovationen für den Straßenverkehr
DESCRIPTION:Erleben Sie die Zukunft des hochautomatisierten Fahrens und tauchen Sie ein in die neuesten Technologien und Entwicklungen im Bereich autonomer Fahrzeuge. Unsere Veranstaltung bietet eine einzigartige Gelegenheit\, sich in hochkarätigen Vorträgen und auf der Begleitausstellung über innovative Systeme zu informieren und diese auf dem Gelände des ADAC-Testzentrums Mobilität in Penzing hautnah zu erleben. \nEntdecken Sie die spannenden Perspektiven\, die die Einführung hochautomatisierter Fahrfunktionen für die Mobilität der Zukunft eröffnet. Nutzen Sie die Chance\, wertvolle Einblicke in die Herausforderungen und Potenziale des autonomen Fahrens zu gewinnen und die neuesten Entwicklungen und Lösungen zu erkunden\, die diesen Wandel vorantreiben. \nAuf dem Gelände des ehemaligen Fliegerhorsts Penzing\, wo der ADAC das Testzentrum Mobilität etabliert hat\, werden die neuesten Fahrzeugmodelle und Systeme umfassend geprüft und weiterentwickelt. Hier entstehen die Sicherheitsanforderungen für die Mobilität der Zukunft. \nUnsere Veranstaltung bietet: \nHochkarätige Vorträge und eine Begleitausstellung\, die Ihnen die Technologien der nächsten Generation näherbringen.\nDie Möglichkeit\, die Systeme hautnah auf dem Testfeld zu erleben und in der Praxis zu erfahren.\nDie Gelegenheit\, mit führenden Expertinnen und Experten zu diskutieren und sich über die Chancen und Herausforderungen des hochautomatisierten Fahrens auszutauschen.\nSeien Sie Teil der Praxistagung Hochautomatisiertes Fahren! \n  \nÜber die Speaker: \nSarunas Kondratas – Head of EU ADAS/AD Features and Compliance |NIO \n  \nJonas Schneider – Lead Engineer AI | e:fs TechHub \n  \nBastian Kneer – Teamlead Software Testing | QualityMinds \n  \nDr.-Ing. Armin Engstle – Site Manager ADAS/AD Sensortesting – AVL Roding \n  \nProf. Dr.-Ing. Markus Lienkamp
URL:https://diserhub.de/veranstaltung/hochautomatisiertes-fahren-innovationen-fuer-den-strassenverkehr/
LOCATION:ADAC Testzentrum Mobilität\, Kauferinger Str.\, Penzing\, 86929\, Deutschland
ATTACH;FMTTYPE=image/jpeg:https://diserhub.de/wp-content/uploads/2024/08/ff-5340a303782ff751d59451c69e41974d-ff-iStock©metamorworks1180543403-scaled.jpg
ORGANIZER;CN="Bayern Innovativ GmbH":MAILTO:simone.voelker@bayern-innovativ.de
END:VEVENT
END:VCALENDAR