BEGIN:VCALENDAR
VERSION:2.0
PRODID:-//DiSerHub - ECPv6.15.20//NONSGML v1.0//EN
CALSCALE:GREGORIAN
METHOD:PUBLISH
X-WR-CALNAME:DiSerHub
X-ORIGINAL-URL:https://diserhub.de
X-WR-CALDESC:Veranstaltungen für DiSerHub
REFRESH-INTERVAL;VALUE=DURATION:PT1H
X-Robots-Tag:noindex
X-PUBLISHED-TTL:PT1H
BEGIN:VTIMEZONE
TZID:Europe/Berlin
BEGIN:DAYLIGHT
TZOFFSETFROM:+0100
TZOFFSETTO:+0200
TZNAME:CEST
DTSTART:20230326T010000
END:DAYLIGHT
BEGIN:STANDARD
TZOFFSETFROM:+0200
TZOFFSETTO:+0100
TZNAME:CET
DTSTART:20231029T010000
END:STANDARD
BEGIN:DAYLIGHT
TZOFFSETFROM:+0100
TZOFFSETTO:+0200
TZNAME:CEST
DTSTART:20240331T010000
END:DAYLIGHT
BEGIN:STANDARD
TZOFFSETFROM:+0200
TZOFFSETTO:+0100
TZNAME:CET
DTSTART:20241027T010000
END:STANDARD
BEGIN:DAYLIGHT
TZOFFSETFROM:+0100
TZOFFSETTO:+0200
TZNAME:CEST
DTSTART:20250330T010000
END:DAYLIGHT
BEGIN:STANDARD
TZOFFSETFROM:+0200
TZOFFSETTO:+0100
TZNAME:CET
DTSTART:20251026T010000
END:STANDARD
END:VTIMEZONE
BEGIN:VEVENT
DTSTART;VALUE=DATE:20241120
DTEND;VALUE=DATE:20241121
DTSTAMP:20260425T125049
CREATED:20240312T122537Z
LAST-MODIFIED:20240312T122537Z
UID:4942-1732060800-1732147199@diserhub.de
SUMMARY:Transformations-Challenge Ostwürttemberg 2024: Result Days
DESCRIPTION:Mit unserer Transformations-Challenge vernetzen wir Unternehmen mit strategisch passenden nationalen und internationalen Start-ups und Partnern aus der Wissenschaft\, um Lösungen für Zukunftsfragen zu entwickeln und langfristige Kooperationen und Kundenbeziehungen aufzubauen. Am Result-Day werden die Früchte monatelanger Zusammenarbeit präsentiert. Unternehmen und ihre jeweiligen Kooperationspartner stellen ihre Ergebnisse\, Lösungen und Erfolge aus den einzelnen Challenges vor. Beim anschließenden Networking gibt es die Möglichkeit\, mit den einzelnen Unternehmen nochmals im Detail zu den Challenges und Ergebnissen in Kontakt zu treten und sich innerhalb des Innovations-Ökosystems auszutauschen.
URL:https://diserhub.de/veranstaltung/transformations-challenge-ostwuerttemberg-2024-result-days/
LOCATION:Transformationsnetzwerk Ostwürttemberg\, Beethovenstraße 1\, Aalen\, 73430\, Deutschland
ATTACH;FMTTYPE=image/png:https://diserhub.de/wp-content/uploads/2024/03/ff-b1a12c976cd74e10f3253e5d2e8575e5-ff-Result-Day-Banner.png
END:VEVENT
END:VCALENDAR