BEGIN:VCALENDAR
VERSION:2.0
PRODID:-//DiSerHub - ECPv6.15.20//NONSGML v1.0//EN
CALSCALE:GREGORIAN
METHOD:PUBLISH
X-ORIGINAL-URL:https://diserhub.de
X-WR-CALDESC:Veranstaltungen für DiSerHub
REFRESH-INTERVAL;VALUE=DURATION:PT1H
X-Robots-Tag:noindex
X-PUBLISHED-TTL:PT1H
BEGIN:VTIMEZONE
TZID:Europe/Berlin
BEGIN:DAYLIGHT
TZOFFSETFROM:+0100
TZOFFSETTO:+0200
TZNAME:CEST
DTSTART:20240331T010000
END:DAYLIGHT
BEGIN:STANDARD
TZOFFSETFROM:+0200
TZOFFSETTO:+0100
TZNAME:CET
DTSTART:20241027T010000
END:STANDARD
BEGIN:DAYLIGHT
TZOFFSETFROM:+0100
TZOFFSETTO:+0200
TZNAME:CEST
DTSTART:20250330T010000
END:DAYLIGHT
BEGIN:STANDARD
TZOFFSETFROM:+0200
TZOFFSETTO:+0100
TZNAME:CET
DTSTART:20251026T010000
END:STANDARD
BEGIN:DAYLIGHT
TZOFFSETFROM:+0100
TZOFFSETTO:+0200
TZNAME:CEST
DTSTART:20260329T010000
END:DAYLIGHT
BEGIN:STANDARD
TZOFFSETFROM:+0200
TZOFFSETTO:+0100
TZNAME:CET
DTSTART:20261025T010000
END:STANDARD
END:VTIMEZONE
BEGIN:VEVENT
DTSTART;TZID=Europe/Berlin:20250421T110000
DTEND;TZID=Europe/Berlin:20250421T110000
DTSTAMP:20260425T040112
CREATED:20250924T125112Z
LAST-MODIFIED:20250924T125112Z
UID:7711-1745233200-1745233200@diserhub.de
SUMMARY:Digitalisierung und Transformation - Autohäuser zwischen Klemmbrett und humanoidem Roboter
DESCRIPTION:Digitalstudie 2024 von TÜV Nord\, AUTOHAUS und dem Institut für Automobilwirtschaft. Das Online-Seminar beleuchtet die aktuellen Herausforderungen im Automobilhandel und -service: sinkende Konsumlaune\, steigende Werkstattpreise und die anhaltende wirtschaftliche Rezession. Im Mittelpunkt steht die Frage\, was Kundinnen und Kunden heute wirklich erwarten – und warum menschliche Faktoren wie Freundlichkeit\, Fachkompetenz und Empathie entscheidender sind als Hightech-Spielereien. Zugleich zeigt die Studie\, wie digitale Prozesse als „License to operate“ unverzichtbar bleiben\, während der eigentliche Unterschied von Menschen im Verkauf und Service gemacht wird.
URL:https://diserhub.de/veranstaltung/digitalisierung-und-transformation-autohaeuser-zwischen-klemmbrett-und-humanoidem-roboter/
LOCATION:Online
CATEGORIES:Online-Seminar
ATTACH;FMTTYPE=image/png:https://diserhub.de/wp-content/uploads/2025/09/ff-42b895a93821ad7917304b5949ba5846-ff-Digitalstudie-2024.png
END:VEVENT
END:VCALENDAR