BEGIN:VCALENDAR
VERSION:2.0
PRODID:-//DiSerHub - ECPv6.15.20//NONSGML v1.0//EN
CALSCALE:GREGORIAN
METHOD:PUBLISH
X-ORIGINAL-URL:https://diserhub.de
X-WR-CALDESC:Veranstaltungen für DiSerHub
REFRESH-INTERVAL;VALUE=DURATION:PT1H
X-Robots-Tag:noindex
X-PUBLISHED-TTL:PT1H
BEGIN:VTIMEZONE
TZID:Europe/Berlin
BEGIN:DAYLIGHT
TZOFFSETFROM:+0100
TZOFFSETTO:+0200
TZNAME:CEST
DTSTART:20240331T010000
END:DAYLIGHT
BEGIN:STANDARD
TZOFFSETFROM:+0200
TZOFFSETTO:+0100
TZNAME:CET
DTSTART:20241027T010000
END:STANDARD
BEGIN:DAYLIGHT
TZOFFSETFROM:+0100
TZOFFSETTO:+0200
TZNAME:CEST
DTSTART:20250330T010000
END:DAYLIGHT
BEGIN:STANDARD
TZOFFSETFROM:+0200
TZOFFSETTO:+0100
TZNAME:CET
DTSTART:20251026T010000
END:STANDARD
BEGIN:DAYLIGHT
TZOFFSETFROM:+0100
TZOFFSETTO:+0200
TZNAME:CEST
DTSTART:20260329T010000
END:DAYLIGHT
BEGIN:STANDARD
TZOFFSETFROM:+0200
TZOFFSETTO:+0100
TZNAME:CET
DTSTART:20261025T010000
END:STANDARD
END:VTIMEZONE
BEGIN:VEVENT
DTSTART;TZID=Europe/Berlin:20251208T100000
DTEND;TZID=Europe/Berlin:20251208T110000
DTSTAMP:20260424T140855
CREATED:20251127T160203Z
LAST-MODIFIED:20251127T160203Z
UID:8001-1765188000-1765191600@diserhub.de
SUMMARY:Kooperatives Fahren Heute und Morgen
DESCRIPTION:Im Vortrag „Kooperatives Fahren – Heute und Morgen“ beleuchtet Dr.-Ing. Tobias Hardes aktuelle Herausforderungen des Straßenverkehrs und zeigt auf\, wie vernetztes und autonomes Fahren als Schlüsseltechnologien zur Lösung dieser Probleme beitragen können. Anhand konkreter Beispiele wie Truck- und Urban-Platooning\, elektronischen Bremslichtern und virtuellen Ampelanlagen wird demonstriert\, wie sich Effizienz und Sicherheit im Verkehr erhöhen lassen. Darüber hinaus werden ethische Fragestellungen des autonomen Fahrens sowie technische Hürden und offene Forschungsfragen diskutiert.
URL:https://diserhub.de/veranstaltung/kooperatives-fahren-heute-und-morgen-3/
LOCATION:Online
CATEGORIES:Online-Seminar
ATTACH;FMTTYPE=image/png:https://diserhub.de/wp-content/uploads/2025/11/ff-bb565863c0a1c8232a5486d4332f9f99-ff-20250910_ff-6d24051ac0066289ad74e437be19417d-ff-bild.png
ORGANIZER;CN="Universit%C3%A4t Paderborn":MAILTO:webmaster@uni-paderborn.de
END:VEVENT
END:VCALENDAR