BEGIN:VCALENDAR
VERSION:2.0
PRODID:-//DiSerHub - ECPv6.15.20//NONSGML v1.0//EN
CALSCALE:GREGORIAN
METHOD:PUBLISH
X-WR-CALNAME:DiSerHub
X-ORIGINAL-URL:https://diserhub.de
X-WR-CALDESC:Veranstaltungen für DiSerHub
REFRESH-INTERVAL;VALUE=DURATION:PT1H
X-Robots-Tag:noindex
X-PUBLISHED-TTL:PT1H
BEGIN:VTIMEZONE
TZID:Europe/Berlin
BEGIN:DAYLIGHT
TZOFFSETFROM:+0100
TZOFFSETTO:+0200
TZNAME:CEST
DTSTART:20240331T010000
END:DAYLIGHT
BEGIN:STANDARD
TZOFFSETFROM:+0200
TZOFFSETTO:+0100
TZNAME:CET
DTSTART:20241027T010000
END:STANDARD
BEGIN:DAYLIGHT
TZOFFSETFROM:+0100
TZOFFSETTO:+0200
TZNAME:CEST
DTSTART:20250330T010000
END:DAYLIGHT
BEGIN:STANDARD
TZOFFSETFROM:+0200
TZOFFSETTO:+0100
TZNAME:CET
DTSTART:20251026T010000
END:STANDARD
BEGIN:DAYLIGHT
TZOFFSETFROM:+0100
TZOFFSETTO:+0200
TZNAME:CEST
DTSTART:20260329T010000
END:DAYLIGHT
BEGIN:STANDARD
TZOFFSETFROM:+0200
TZOFFSETTO:+0100
TZNAME:CET
DTSTART:20261025T010000
END:STANDARD
END:VTIMEZONE
BEGIN:VEVENT
DTSTART;TZID=Europe/Berlin:20251210T100000
DTEND;TZID=Europe/Berlin:20251210T110000
DTSTAMP:20260424T140756
CREATED:20251023T171131Z
LAST-MODIFIED:20251023T171131Z
UID:7802-1765360800-1765364400@diserhub.de
SUMMARY:Mobilitätsdaten erheben und clever nutzen
DESCRIPTION:Mobilität verändert sich rasant – ob durch den Ausbau nachhaltiger Verkehrsmittel\, die Digitalisierung oder neue Sharing-Angebote. Damit Kommunen\, Unternehmen und Verkehrsplaner fundierte Entscheidungen treffen können\, braucht es verlässliche Daten. \nIn diesem Webinar zeigen wir\, wie Mobilitätsdaten systematisch erhoben und in der Praxis nutzbar gemacht werden können. Wir geben Einblicke in aktuelle Methoden der Datenerfassung (z. B. Sensorik\, Apps)\, erläutern technische Rahmenbedingungen und zeigen Best-Practice-Beispiele für den erfolgreichen Einsatz von Mobilitätsdaten – etwa für die Verkehrsplanung oder die Entwicklung neuer Mobilitätsdienste. \nDas Webinar richtet sich an Fach- und Führungskräfte aus Kommunen\, Verkehrsunternehmen\, Beratungen\, Start-ups und alle\, die Mobilitätsdaten strategisch nutzen möchten.
URL:https://diserhub.de/veranstaltung/mobilitaetsdaten-erheben-und-clever-nutzen/
LOCATION:Online
CATEGORIES:Online-Seminar
ATTACH;FMTTYPE=image/png:https://diserhub.de/wp-content/uploads/2025/10/ff-86e3c0d7dc62219651d0485971d3445f-ff-Header-Vorschau.png
ORGANIZER;CN="Universit%C3%A4t Paderborn":MAILTO:webmaster@uni-paderborn.de
END:VEVENT
BEGIN:VEVENT
DTSTART;TZID=Europe/Berlin:20251210T140000
DTEND;TZID=Europe/Berlin:20251210T150000
DTSTAMP:20260424T140756
CREATED:20251218T170305Z
LAST-MODIFIED:20251218T170305Z
UID:8178-1765375200-1765378800@diserhub.de
SUMMARY:Automobilhistorie – Entwicklungsansätze eines Volkswagens
DESCRIPTION:Der Vortrag geht auf die Bedeutung der Automobilhistorie als Teil der Technikgeschichte ein und nimmt Bezug auf das wirtschaftliche\, politische Umfeld der ersten drei Jahrzehnte des letzten Jahrhunderts. Aufgrund des Bedarfs gab es unterschiedliche Ansätze für einen ‚Volkswagen‘ von diversen Fahrzeugherstellern.
URL:https://diserhub.de/veranstaltung/automobilhistorie-entwicklungsansaetze-eines-volkswagens/
LOCATION:Online
CATEGORIES:Online-Seminar
ATTACH;FMTTYPE=image/png:https://diserhub.de/wp-content/uploads/2025/12/ff-37489dcffb596075d5a824f0d38965a8-ff-Designer-1.png
ORGANIZER;CN="TuCed - An-Institut f%C3%BCr Transfer und Weiterbildung":MAILTO:martin.schuler@tuced.de
END:VEVENT
BEGIN:VEVENT
DTSTART;TZID=Europe/Berlin:20251210T173000
DTEND;TZID=Europe/Berlin:20251210T200000
DTSTAMP:20260424T140756
CREATED:20260204T112847Z
LAST-MODIFIED:20260204T112847Z
UID:8272-1765387800-1765396800@diserhub.de
SUMMARY:Forum Automotive - IT-Infrastruktur im Kfz-Betrieb 2025
DESCRIPTION:„IT-Infrastruktur im Kfz-Betrieb 2025 – effizient und bezahlbar” – Unter diesem Vortragstitel dürfen wir am kommenden Mittwochabend gleich drei Mitwirkende im Forum Automotive begrüßen! Themen sind u.a. Voicebots im Autohaus\, digitale Payment-Prozesse und die Bedeutung vollständiger Daten für digitale Nutzbarkeit.
URL:https://diserhub.de/veranstaltung/forum-automotive-it-infrastruktur-im-kfz-betrieb-2025/
LOCATION:Wolf-Hirth-Straße 6\, 73730\, Esslingen am Neckar\, Wolf-Hirth-Straße 6\, Esslingen am Neckar\, 73730\, Germany
ATTACH;FMTTYPE=image/jpeg:https://diserhub.de/wp-content/uploads/2026/02/ff-5811f575fbd9d61cbdd4b52618ef7380-ff-1765225344965.jpg
ORGANIZER;CN="IfA - Institut f%C3%BCr Automobilwirtschaft":MAILTO:david.sosto@ifa-info.de
END:VEVENT
END:VCALENDAR