BEGIN:VCALENDAR
VERSION:2.0
PRODID:-//DiSerHub - ECPv6.15.20//NONSGML v1.0//EN
CALSCALE:GREGORIAN
METHOD:PUBLISH
X-ORIGINAL-URL:https://diserhub.de
X-WR-CALDESC:Veranstaltungen für DiSerHub
REFRESH-INTERVAL;VALUE=DURATION:PT1H
X-Robots-Tag:noindex
X-PUBLISHED-TTL:PT1H
BEGIN:VTIMEZONE
TZID:Europe/Berlin
BEGIN:DAYLIGHT
TZOFFSETFROM:+0100
TZOFFSETTO:+0200
TZNAME:CEST
DTSTART:20240331T010000
END:DAYLIGHT
BEGIN:STANDARD
TZOFFSETFROM:+0200
TZOFFSETTO:+0100
TZNAME:CET
DTSTART:20241027T010000
END:STANDARD
BEGIN:DAYLIGHT
TZOFFSETFROM:+0100
TZOFFSETTO:+0200
TZNAME:CEST
DTSTART:20250330T010000
END:DAYLIGHT
BEGIN:STANDARD
TZOFFSETFROM:+0200
TZOFFSETTO:+0100
TZNAME:CET
DTSTART:20251026T010000
END:STANDARD
BEGIN:DAYLIGHT
TZOFFSETFROM:+0100
TZOFFSETTO:+0200
TZNAME:CEST
DTSTART:20260329T010000
END:DAYLIGHT
BEGIN:STANDARD
TZOFFSETFROM:+0200
TZOFFSETTO:+0100
TZNAME:CET
DTSTART:20261025T010000
END:STANDARD
END:VTIMEZONE
BEGIN:VEVENT
DTSTART;TZID=Europe/Berlin:20251217T140000
DTEND;TZID=Europe/Berlin:20251217T150000
DTSTAMP:20260424T142009
CREATED:20251218T161635Z
LAST-MODIFIED:20251218T161816Z
UID:8158-1765980000-1765983600@diserhub.de
SUMMARY:Übersteuern / Untersteuern – Einführung in das querdynamische Set-Up\, Entwicklung bis zum Elektroauto
DESCRIPTION:Der Beitrag führt in das Eigenlenkverhalten eines Straßenfahrzeugs ein und berücksichtigt dabei die Zusammenhänge\, die sich bei alternativer Antriebstechnik durch Mehrgewicht und andere Gewichtsverteilung auf das auch für den Normalfahrer spürbare Fahrverhalten auswirken. Das Ganze wird anhand mehrerer Praxisbeispiele aus unterschiedlichen Jahrzehnten des Fahrzeugbaus anschaulich gemacht.
URL:https://diserhub.de/veranstaltung/uebersteuern-untersteuern-einfuehrung-in-das-querdynamische-set-up-entwicklung-bis-zum-elektroauto/
LOCATION:Online
CATEGORIES:Online-Seminar
ATTACH;FMTTYPE=image/png:https://diserhub.de/wp-content/uploads/2025/12/ff-5d1aa55ac7bd97d9fce7e62f2a7ba141-ff-Designer.png
ORGANIZER;CN="TuCed - An-Institut f%C3%BCr Transfer und Weiterbildung":MAILTO:martin.schuler@tuced.de
END:VEVENT
END:VCALENDAR