BEGIN:VCALENDAR
VERSION:2.0
PRODID:-//DiSerHub - ECPv6.15.20//NONSGML v1.0//EN
CALSCALE:GREGORIAN
METHOD:PUBLISH
X-WR-CALNAME:DiSerHub
X-ORIGINAL-URL:https://diserhub.de
X-WR-CALDESC:Veranstaltungen für DiSerHub
REFRESH-INTERVAL;VALUE=DURATION:PT1H
X-Robots-Tag:noindex
X-PUBLISHED-TTL:PT1H
BEGIN:VTIMEZONE
TZID:Europe/Berlin
BEGIN:DAYLIGHT
TZOFFSETFROM:+0100
TZOFFSETTO:+0200
TZNAME:CEST
DTSTART:20250330T010000
END:DAYLIGHT
BEGIN:STANDARD
TZOFFSETFROM:+0200
TZOFFSETTO:+0100
TZNAME:CET
DTSTART:20251026T010000
END:STANDARD
BEGIN:DAYLIGHT
TZOFFSETFROM:+0100
TZOFFSETTO:+0200
TZNAME:CEST
DTSTART:20260329T010000
END:DAYLIGHT
BEGIN:STANDARD
TZOFFSETFROM:+0200
TZOFFSETTO:+0100
TZNAME:CET
DTSTART:20261025T010000
END:STANDARD
BEGIN:DAYLIGHT
TZOFFSETFROM:+0100
TZOFFSETTO:+0200
TZNAME:CEST
DTSTART:20270328T010000
END:DAYLIGHT
BEGIN:STANDARD
TZOFFSETFROM:+0200
TZOFFSETTO:+0100
TZNAME:CET
DTSTART:20271031T010000
END:STANDARD
END:VTIMEZONE
BEGIN:VEVENT
DTSTART;VALUE=DATE:20261125
DTEND;VALUE=DATE:20261126
DTSTAMP:20260424T155313
CREATED:20260323T143928Z
LAST-MODIFIED:20260323T145154Z
UID:8565-1795564800-1795651199@diserhub.de
SUMMARY:DiSerHub-Consilium
DESCRIPTION:Auch das diesjährige DiSerHub-Consilium bietet Ihnen wieder eine einzigartige Gelegenheit\, sich über die nachhaltige Entwicklung der Automobilindustrie auszutauschen und neueste Erkenntnisse sowie einen Überblick über branchenrelevante Trends zu erhalten. \nHochkarätige Referierende werden auch 2026 wieder über ihre Erfahrungen und Erkenntnisse berichten. \nWir treffen uns in Aachen oder digital am Mittwoch\, den 25. November 2026!
URL:https://diserhub.de/veranstaltung/diserhub-consilium-2/
LOCATION:FIR-Konferenzzentrum Aachen
ATTACH;FMTTYPE=image/png:https://diserhub.de/wp-content/uploads/2026/02/Gemini_Generated_Image_vf0g06vf0g06vf0g-e1772725816632.png
END:VEVENT
END:VCALENDAR