BEGIN:VCALENDAR
VERSION:2.0
PRODID:-//DiSerHub - ECPv6.15.20//NONSGML v1.0//EN
CALSCALE:GREGORIAN
METHOD:PUBLISH
X-WR-CALNAME:DiSerHub
X-ORIGINAL-URL:https://diserhub.de
X-WR-CALDESC:Veranstaltungen für DiSerHub
REFRESH-INTERVAL;VALUE=DURATION:PT1H
X-Robots-Tag:noindex
X-PUBLISHED-TTL:PT1H
BEGIN:VTIMEZONE
TZID:Europe/Berlin
BEGIN:DAYLIGHT
TZOFFSETFROM:+0100
TZOFFSETTO:+0200
TZNAME:CEST
DTSTART:20230326T010000
END:DAYLIGHT
BEGIN:STANDARD
TZOFFSETFROM:+0200
TZOFFSETTO:+0100
TZNAME:CET
DTSTART:20231029T010000
END:STANDARD
BEGIN:DAYLIGHT
TZOFFSETFROM:+0100
TZOFFSETTO:+0200
TZNAME:CEST
DTSTART:20240331T010000
END:DAYLIGHT
BEGIN:STANDARD
TZOFFSETFROM:+0200
TZOFFSETTO:+0100
TZNAME:CET
DTSTART:20241027T010000
END:STANDARD
BEGIN:DAYLIGHT
TZOFFSETFROM:+0100
TZOFFSETTO:+0200
TZNAME:CEST
DTSTART:20250330T010000
END:DAYLIGHT
BEGIN:STANDARD
TZOFFSETFROM:+0200
TZOFFSETTO:+0100
TZNAME:CET
DTSTART:20251026T010000
END:STANDARD
END:VTIMEZONE
BEGIN:VEVENT
DTSTART;VALUE=DATE:20240507
DTEND;VALUE=DATE:20240509
DTSTAMP:20260425T213806
CREATED:20240312T122029Z
LAST-MODIFIED:20240312T122029Z
UID:4938-1715040000-1715212799@diserhub.de
SUMMARY:Transformations-Challenge Ostwürttemberg 2024: Pitch Days
DESCRIPTION:Mit unserer Transformations-Challenge vernetzen wir Unternehmen mit strategisch passenden nationalen und internationalen Start-ups und Partnern aus der Wissenschaft\, um Lösungen für Zukunftsfragen zu entwickeln und langfristige Kooperationen und Kundenbeziehungen aufzubauen. Bei den Pitch-Days (online) treten die Unternehmen in Break-out-Sessions in Kontakt mit vielversprechenden Start-ups und potenziellen Partnern. Im Rahmen dieses Online-Kennenlernens wählen die Unternehmen schließlich das Team aus\, mit welchem sie in den kommenden Monaten an ihrer Challenge arbeiten möchten.
URL:https://diserhub.de/veranstaltung/transformations-challenge-ostwuerttemberg-2024-pitch-days/
LOCATION:Online
ATTACH;FMTTYPE=image/png:https://diserhub.de/wp-content/uploads/2024/03/ff-f236bdf3dffa487f40b1ff4d8956a50b-ff-Pitch-Days-Banner.png
END:VEVENT
BEGIN:VEVENT
DTSTART;TZID=Europe/Berlin:20240508T141500
DTEND;TZID=Europe/Berlin:20240508T190000
DTSTAMP:20260425T213806
CREATED:20240327T093948Z
LAST-MODIFIED:20240327T093948Z
UID:5173-1715177700-1715194800@diserhub.de
SUMMARY:TASTE the Future | Automotive Software Culture
DESCRIPTION:Wir freuen uns riesig\, dass unsere Eventreihe „TASTE the Future“ im Rahmen unseres Transformations-Hubs TASTE endlich an den Start geht. Zum Auftakt sind wir zu Besuch bei Siemens Mobility in Braunschweig. Dazu möchten wir dich recht herzlich einladen. Komm vorbei\, tausch dich mit unseren Projektpartnern aus und erfahre in lockerer Atmosphäre die wesentlichen Trends zur Zukunft der Automobilbranche. \nAuf diese Themenschwerpunkte und Fragestellungen kannst du dich bereits freuen: \n➽ Wir wollen gemeinsam die Entwicklung der Softwarekultur in der Automobilbranche erkunden.\n➽ Wie etablieren wir eine innovative Softwareentwicklungskultur?\n➽ Wie lässt sich Software entlang der Wertschöpfungskette am besten integrieren?\n➽ Wie kann die Transformation von Unternehmenskulturen erfolgreich gelingen?
URL:https://diserhub.de/veranstaltung/taste-the-future-automotive-software-culture/
LOCATION:Siemens\, Ackerstraße 22\, Braunschweig\, 38126\, Deutschland
ATTACH;FMTTYPE=image/png:https://diserhub.de/wp-content/uploads/2024/03/ff-7a67e5a94f0e88aea18117f6544428f9-ff-BEARBEITEN.png
ORGANIZER;CN="ITS mobility":MAILTO:catherine.correa-thrun@its-mobility.de
END:VEVENT
BEGIN:VEVENT
DTSTART;TZID=Europe/Berlin:20240515T150000
DTEND;TZID=Europe/Berlin:20240515T160000
DTSTAMP:20260425T213806
CREATED:20240319T113355Z
LAST-MODIFIED:20240319T113355Z
UID:5059-1715785200-1715788800@diserhub.de
SUMMARY:TRAIBER.NRW Impuls: WEITERBILDUNG IN ZEITEN DER TRANSFORMATION - WIE KÖNNEN FÖRDERUNGEN BEIM WANDEL HELFEN?
DESCRIPTION:Richtig qualifizierte Beschäftigte sind eine bedeutende Säule für die Wettbewerbsfähigkeit von Betrieben. Gleichzeitig sichern die Beschäftigten durch den Kompetenzerwerb ihre Beschäftigungsfähigkeit. Digitalisierung\, Fachkräftemangel und strukturelle Veränderungen der Automotive Branche fordern die Betriebe auf allen Ebenen. Sie verändern kontinuierlich die Aufgabenfelder und Anforderungsprofile der Beschäftigten und erfordern gezielte Qualifizierungsmaßnahmen. Die Möglichkeiten der Unterstützung und finanziellen Förderung im Rahmen der Weiterbildung für Unternehmen sind zwar vielfältig\, jedoch ist oft die Passung zum eigenen Unternehmen nicht offensichtlich. Darüber hinaus tritt das Gesetz zur Stärkung von Aus- und Weiterbildung (Aus- und Weiterbildungsgesetz) am 1. April 2024 in Kraft und bietet neue Fördermöglichkeiten.\n\n\nWelche (neuen) Fördermöglichkeiten der Agentur für Arbeit im Rahmen der Weiterbildung Beschäftigter gibt es für Unternehmen\, speziell für KMU?\nWie können Entwicklungspotenziale und konkrete Weiterbildungsbedarfe im Unternehmen erkannt werden?\nWie kann eine Weiterbildungsstrategie unter Nutzung von Förderinstrumenten der Agentur für Arbeit erfolgreich umgesetzt werden?\n\nDiskutieren Sie mit Wolfgang Müller und Martina Wildförster sowie Vertreter:innen aus Unternehmen der Automotive Industrie der Bergischen Region über Potenziale\, Herausforderungen und Bedarfe bei der Qualifizierung von Beschäftigten.
URL:https://diserhub.de/veranstaltung/traiber-nrw-impuls-weiterbildung-in-zeiten-der-transformation-wie-koennen-foerderungen-beim-wandel-helfen/
LOCATION:Online
ATTACH;FMTTYPE=image/png:https://diserhub.de/wp-content/uploads/2024/03/ff-6484bcf8c62b38b7dce293ea3104f984-ff-Foerderungen.png
ORGANIZER;CN="TRAIBER.NRW":MAILTO:erwig@uni-wuppertal.de
END:VEVENT
BEGIN:VEVENT
DTSTART;TZID=Europe/Berlin:20240516T160000
DTEND;TZID=Europe/Berlin:20240516T173000
DTSTAMP:20260425T213806
CREATED:20240228T134215Z
LAST-MODIFIED:20240328T094150Z
UID:4602-1715875200-1715880600@diserhub.de
SUMMARY:Datenbasierte Geschäftsmodelle im Kontext etablierter Strukturen im Automobilvertrieb – Grundlagen und Perspektiven
DESCRIPTION:Das 90-minütige Online-Seminar „Datenbasierte Geschäftsmodelle im Kontext etablierter Strukturen im Autovertrieb – Grundlagen und Perspektiven“ richtet sich an Beschäftigte in Autohäusern\, Werkstätten und bei Branchendienstleistern. Die Referenten des Instituts für Automobilwirtschaft (IfA) geben einen umfassenden Einblick in die Welt der datenbasierten Geschäftsmodelle im Automobilvertrieb.
URL:https://diserhub.de/veranstaltung/datenbasierte-geschaeftsmodelle-im-kontext-etablierter-strukturen-im-automobilvertrieb-grundlagen-und-perspektiven/
LOCATION:Online
CATEGORIES:Online-Seminar
ATTACH;FMTTYPE=image/png:https://diserhub.de/wp-content/uploads/2024/02/Online-Seminar_3.png
END:VEVENT
BEGIN:VEVENT
DTSTART;TZID=Europe/Berlin:20240522T100000
DTEND;TZID=Europe/Berlin:20240522T110000
DTSTAMP:20260425T213806
CREATED:20240402T120026Z
LAST-MODIFIED:20240606T130551Z
UID:5271-1716372000-1716375600@diserhub.de
SUMMARY:Digitale Geschäftsmodelle für Fahrerassistenzsysteme  - Chancen und Trends
DESCRIPTION:In diesem Online-Seminar präsentieren Ihnen Experten der HELLA GmbH & Co. KGaA und des Heinz Nixdorf Instituts die aktuellen Trends und Innovationen im Bereich der Fahrerassistenzsysteme. Zum Einstieg erwartet Sie ein Überblick über die verschiedenen Arten von Fahrerassistenzsystemen und wie eine Vernetzung solcher Systeme die Bewältigung automatisierter Fahraufgaben ermöglicht sowie die Sicherheit auf unseren Straßen verbessern kann.
URL:https://diserhub.de/veranstaltung/digitale-geschaeftsmodelle-fuer-fahrerassistenzsysteme-chancen-und-trends/
LOCATION:Online
CATEGORIES:Online-Seminar
ATTACH;FMTTYPE=image/png:https://diserhub.de/wp-content/uploads/2024/03/Header-Webinar-Hella.png
END:VEVENT
END:VCALENDAR