BEGIN:VCALENDAR
VERSION:2.0
PRODID:-//DiSerHub - ECPv6.15.20//NONSGML v1.0//EN
CALSCALE:GREGORIAN
METHOD:PUBLISH
X-WR-CALNAME:DiSerHub
X-ORIGINAL-URL:https://diserhub.de
X-WR-CALDESC:Veranstaltungen für DiSerHub
REFRESH-INTERVAL;VALUE=DURATION:PT1H
X-Robots-Tag:noindex
X-PUBLISHED-TTL:PT1H
BEGIN:VTIMEZONE
TZID:Europe/Berlin
BEGIN:DAYLIGHT
TZOFFSETFROM:+0100
TZOFFSETTO:+0200
TZNAME:CEST
DTSTART:20230326T010000
END:DAYLIGHT
BEGIN:STANDARD
TZOFFSETFROM:+0200
TZOFFSETTO:+0100
TZNAME:CET
DTSTART:20231029T010000
END:STANDARD
BEGIN:DAYLIGHT
TZOFFSETFROM:+0100
TZOFFSETTO:+0200
TZNAME:CEST
DTSTART:20240331T010000
END:DAYLIGHT
BEGIN:STANDARD
TZOFFSETFROM:+0200
TZOFFSETTO:+0100
TZNAME:CET
DTSTART:20241027T010000
END:STANDARD
BEGIN:DAYLIGHT
TZOFFSETFROM:+0100
TZOFFSETTO:+0200
TZNAME:CEST
DTSTART:20250330T010000
END:DAYLIGHT
BEGIN:STANDARD
TZOFFSETFROM:+0200
TZOFFSETTO:+0100
TZNAME:CET
DTSTART:20251026T010000
END:STANDARD
END:VTIMEZONE
BEGIN:VEVENT
DTSTART;TZID=Europe/Berlin:20240723T150000
DTEND;TZID=Europe/Berlin:20240723T160000
DTSTAMP:20260425T181612
CREATED:20240606T131800Z
LAST-MODIFIED:20240624T072518Z
UID:5564-1721746800-1721750400@diserhub.de
SUMMARY:Neue Kompetenzen durch Digitalisierungstrends in der Automobilindustrie
DESCRIPTION:Dieses Webinar konzentriert sich auf die Zukunft der Automobilindustrie und die damit verbundenen neuen Kompetenzen für Unternehmen und Beschäftigte. Es werden die Ergebnisse der CATI-Studie FastForward vorgestellt\, die einen Gesamtüberblick über Kompetenzprofile nach Berufs- und Produktgruppen bietet. Dabei steht die Digitalisierung als integraler Bestandteil des Strukturwandels in der Automobilindustrie im Vordergrund. Es werden neue Job-Profile diskutiert\, die durch die Digitalisierung entstehen\, wie z.B. Data Analysts\, Software-Entwickler und UX-Designer.\nDas Webinar behandelt auch die Auswirkungen der Digitalisierung auf Produkte und Wertschöpfungsprozesse in der Automobilindustrie und gibt Technologische Einblicke sowie Handlungsmaßnahmen in den Ausblick. \nInhalt: \nProjekthistorie und Studien\no Überblick über die Entwicklung von Kompetenzen im Automobilsektor.\nDigitalisierung in der Automobilindustrie\no Die Rolle der Digitalisierung als integraler Bestandteil des Strukturwandels\nKompetenzbedarf durch Digitalisierung\no Neue Anforderungen an Berufsausbildung und Weiterbildung sowie gesuchte Job-Profile.\nDigitalisierung im Produkt und Wertschöpfungsprozess\no Auswirkungen der Digitalisierung auf Produkte\, Produktentwicklung und Produktionsprozesse.
URL:https://diserhub.de/veranstaltung/neue-kompetenzen-durch-digitalisierungstrends-in-der-automobilindustrie/
CATEGORIES:Online-Seminar
ATTACH;FMTTYPE=image/png:https://diserhub.de/wp-content/uploads/2024/06/ff-c7e41fece04193b4d82d4b88310753a8-ff-AdobeStock_724477267_169.png
END:VEVENT
END:VCALENDAR