BEGIN:VCALENDAR
VERSION:2.0
PRODID:-//DiSerHub - ECPv6.15.20//NONSGML v1.0//EN
CALSCALE:GREGORIAN
METHOD:PUBLISH
X-ORIGINAL-URL:https://diserhub.de
X-WR-CALDESC:Veranstaltungen für DiSerHub
REFRESH-INTERVAL;VALUE=DURATION:PT1H
X-Robots-Tag:noindex
X-PUBLISHED-TTL:PT1H
BEGIN:VTIMEZONE
TZID:Europe/Berlin
BEGIN:DAYLIGHT
TZOFFSETFROM:+0100
TZOFFSETTO:+0200
TZNAME:CEST
DTSTART:20240331T010000
END:DAYLIGHT
BEGIN:STANDARD
TZOFFSETFROM:+0200
TZOFFSETTO:+0100
TZNAME:CET
DTSTART:20241027T010000
END:STANDARD
BEGIN:DAYLIGHT
TZOFFSETFROM:+0100
TZOFFSETTO:+0200
TZNAME:CEST
DTSTART:20250330T010000
END:DAYLIGHT
BEGIN:STANDARD
TZOFFSETFROM:+0200
TZOFFSETTO:+0100
TZNAME:CET
DTSTART:20251026T010000
END:STANDARD
BEGIN:DAYLIGHT
TZOFFSETFROM:+0100
TZOFFSETTO:+0200
TZNAME:CEST
DTSTART:20260329T010000
END:DAYLIGHT
BEGIN:STANDARD
TZOFFSETFROM:+0200
TZOFFSETTO:+0100
TZNAME:CET
DTSTART:20261025T010000
END:STANDARD
END:VTIMEZONE
BEGIN:VEVENT
DTSTART;TZID=Europe/Berlin:20250205T093000
DTEND;TZID=Europe/Berlin:20250205T170000
DTSTAMP:20260425T054056
CREATED:20241024T142733Z
LAST-MODIFIED:20250131T081734Z
UID:6093-1738747800-1738774800@diserhub.de
SUMMARY:DiSerHub - Consilium
DESCRIPTION:« Alle Veranstaltungen\n \n\n	DiSerHub – Consilium\n			5. Februar\n	  @\n09:30\n	  –\n17:00\n	 \nGanzheitliche Produktkreisläufe durch Digitale Services\nErfahren Sie beim Consilium des Transformations-HUB DiSerHub praxisnahe Lösungen zur Digitalisierung und Nachhaltigkeit – effizient und kostensparend. \nDiSerHub_Consilium-2024-Hub-Ost_OnePager \n					\n									Jetzt kostenfrei anmelden\n					 \nThemenschwerpunkte: \n\nSmart Manufacturing: Effizienzsteigerung ohne Komplettumbau\nDigitale Services: Optimierung bestehender Angebote\nNachhaltigkeit: Kosten senken und Umwelt schützen\n\nNamhafte Unternehmen wie Volkswagen Bildungsinstitut GmbH\, imk Industrial Intelligence GmbH\, Fraunhofer IGCV\, The Battery Lifecycle Company GmbH (BLC) und weitere teilen ihre Erfahrungen. \nNetworking\, Fachvorträge und Podiumsdiskussion bieten praxisorientierte Einblicke. \nDatum: Mittwoch\, 05. Februar 2025Dauer: 09:30 Uhr – 17:00 UhrOrt: Fraunhofer IWU\, Reichenhainer Straße 88\, 09126 ChemnitzKosten: Kostenfreie Teilnahme \nNutzen Sie diese Gelegenheit\, um Ihr Unternehmen sicher und zukunftsorientiert zu positionieren\, ohne in teure und unsichere Experimente zu investieren. \nDas Team des Transformations-HUB DiSerHub Ost/Südost \nPROGRAMM\n\n\n					 09:30 // »Keynotes«\n						\nBegrüßungDr.-Ing. Marcel Todtermuschke\, Fraunhofer-Allianz autoMOBILproduktionMartin Schuler\, TuCed – An-Institut für Transfer und Weiterbildung \nSmart Factory – Von der Produktion der Vergangenheit hin zur Fertigung der ZukunftTobias Kiefer\, ABAT+ GmbH \nThe potential of AAS in the digital ProductionDr. Dirk Thieme\, Volkswagen AG \n\n\n\n					 10:40 // »Digitale Services«\n						\nZukunftsfelder und Zukunftskompetenzen im Automobilbau und der M + E IndustrieProf. Holger Naduschewski\, Volkswagen Bildungsinstitut GmbH \nDigitale Geschäftsmodelle und Smart SystemsRobin Kurth\, Fraunhofer IWU \nIIoT als Wachstumstreiber: Chancen für KMUs\, neue Einnahmequellen zu erschließenChristian Groß\, in.hub GmbH \n\n\n\n					 12:10 // »Smart Manufacturing«\n						\nProduktionsperformance steigern durch digitales RetrofitJens Viertel\, SITEC Industrietechnologie GmbH \nVom QR Code über OPC-UA zur vollautomatisierten smarten InstandhaltungMarcel Viehrig\, ccc software GmbH \nCNC-Prozessanalyse am digitalen ZwillingPhillipp Siegel\, Siemens AG \nDer Nutzen digitaler Zwillinge bei Multiroboterzellen für die modularen Produktion – am Beispiel der REAL-MFaisal Yaquoob\, Fraunhofer IWU \nDigitale Arbeitsgestaltung und Ergonomie für eine moderne ProduktionProf. Dr. Lars Fritzsche\, imk Industrial Intelligence GmbH \n\n\n\n					 15:05 // »Nachhaltigkeit«\n						\nDie Leichtmetallgießerei als zentraler Akteur in der Kreislaufwirtschaft der AutomobilbrancheRobert Kleinhans\, Fraunhofer IGCV \nOpen Source Hardware in der Industrie: Innovation jenseits von DIYProf. Dirk Reichelt\, Hochschule für Technik und Wirtschaft Dresden \nBatterierecycling – Wie werden Kreislaufwirtschaftsstrategien aufgebaut?Lukas Brandl (COO)\, BLC – The Battery Lifecycle Company GmbH \n\n\n\n					 16:10 // »Podiumsdiskussion«\n						\nWie neue Geschäftsmodelle und digitale Services die Produktion von morgen bestimmen. \nIm Gespräch mit Prof. Holger Naduschewski\, Prof. Lars Fritzsche\, Lukas Brandl\, Jens Heinrich sowie Tobias Kiefer. \n\nBegrüßungDr.-Ing. Marcel Todtermuschke\, Fraunhofer-Allianz autoMOBILproduktionMartin Schuler\, TuCed – An-Institut für Transfer und Weiterbildung \nSmart Factory – Von der Produktion der Vergangenheit hin zur Fertigung der ZukunftTobias Kiefer\, ABAT+ GmbH \nThe potential of AAS in the digital ProductionDr. Dirk Thieme\, Volkswagen AG \nZukunftsfelder und Zukunftskompetenzen im Automobilbau und der M + E IndustrieProf. Holger Naduschewski\, Volkswagen Bildungsinstitut GmbH \nDigitale Geschäftsmodelle und Smart SystemsRobin Kurth\, Fraunhofer IWU \nIIoT als Wachstumstreiber: Chancen für KMUs\, neue Einnahmequellen zu erschließenChristian Groß\, in.hub GmbH \nProduktionsperformance steigern durch digitales RetrofitJens Viertel\, SITEC Industrietechnologie GmbH \nVom QR Code über OPC-UA zur vollautomatisierten smarten InstandhaltungMarcel Viehrig\, ccc software GmbH \nCNC-Prozessanalyse am digitalen ZwillingPhillipp Siegel\, Siemens AG \nDer Nutzen digitaler Zwillinge bei Multiroboterzellen für die modularen Produktion – am Beispiel der REAL-MFaisal Yaquoob\, Fraunhofer IWU \nDigitale Arbeitsgestaltung und Ergonomie für eine moderne ProduktionProf. Dr. Lars Fritzsche\, imk Industrial Intelligence GmbH \nDie Leichtmetallgießerei als zentraler Akteur in der Kreislaufwirtschaft der AutomobilbrancheRobert Kleinhans\, Fraunhofer IGCV \nOpen Source Hardware in der Industrie: Innovation jenseits von DIYProf. Dirk Reichelt\, Hochschule für Technik und Wirtschaft Dresden \nBatterierecycling – Wie werden Kreislaufwirtschaftsstrategien aufgebaut?Lukas Brandl (COO)\, BLC – The Battery Lifecycle Company GmbH \nWie neue Geschäftsmodelle und digitale Services die Produktion von morgen bestimmen. \nIm Gespräch mit Prof. Holger Naduschewski\, Prof. Lars Fritzsche\, Lukas Brandl\, Jens Heinrich sowie Tobias Kiefer. \n					\n									Jetzt kostenfrei anmelden\n					 \nVeranstalter ist \nTUCed \nFraunhofer-Allianz automobilproduktion \nAnsprechpartner ist \n\nMartin Schuler TUCed – An-Institut für Transfer und Weiterbildung GmbHmartin.schuler@tuced.de\nAnnegret Schimmang-Esche Fraunhofer IWUannegret.schimmang-esche@iwu.fraunhofer.de\n \n\n\n	Kategorien:\n		Consilium	 \n\n	Fraunhofer-Allianz autoMOBILproduktion\n\n	TuCed – An-Institut für Transfer und Weiterbildung\n\n	Fraunhofer IWU\n\nReichenhainer Straße 88\n		\n		Chemnitz\,\n	09126\n	Germany\n\n\n	Google Karte anzeigen \n\n					\n						\n	 \n\n	Veranstaltungsort-Website anzeigen \n\n\n\n	\n	Zum Kalender hinzufügen	\n		\n	\n \n\n\n	Google Kalender\n\n\n	iCalendar\n\n\n	Outlook 365\n\n\n	Outlook Live\n\n\n\n\n\n\n				Nachhaltigkeitsbewertung von Elektronikprodukten – Herausforderungen und Chancen	\n\n\n	\n		Zukunftswerkstatt Automotive Metropolregion Nürnberg
URL:https://diserhub.de/veranstaltung/diserhub-consilium/
LOCATION:Fraunhofer IWU\, Reichenhainer Straße 88\, Chemnitz\, 09126\, Germany
CATEGORIES:Consilium
ATTACH;FMTTYPE=image/jpeg:https://diserhub.de/wp-content/uploads/2024/10/DiSerHub_Consilium-2024-Hub-Ost-Titelbild-scaled.jpg
END:VEVENT
END:VCALENDAR