BEGIN:VCALENDAR
VERSION:2.0
PRODID:-//DiSerHub - ECPv6.15.20//NONSGML v1.0//EN
CALSCALE:GREGORIAN
METHOD:PUBLISH
X-WR-CALNAME:DiSerHub
X-ORIGINAL-URL:https://diserhub.de
X-WR-CALDESC:Veranstaltungen für DiSerHub
REFRESH-INTERVAL;VALUE=DURATION:PT1H
X-Robots-Tag:noindex
X-PUBLISHED-TTL:PT1H
BEGIN:VTIMEZONE
TZID:Europe/Berlin
BEGIN:DAYLIGHT
TZOFFSETFROM:+0100
TZOFFSETTO:+0200
TZNAME:CEST
DTSTART:20240331T010000
END:DAYLIGHT
BEGIN:STANDARD
TZOFFSETFROM:+0200
TZOFFSETTO:+0100
TZNAME:CET
DTSTART:20241027T010000
END:STANDARD
BEGIN:DAYLIGHT
TZOFFSETFROM:+0100
TZOFFSETTO:+0200
TZNAME:CEST
DTSTART:20250330T010000
END:DAYLIGHT
BEGIN:STANDARD
TZOFFSETFROM:+0200
TZOFFSETTO:+0100
TZNAME:CET
DTSTART:20251026T010000
END:STANDARD
BEGIN:DAYLIGHT
TZOFFSETFROM:+0100
TZOFFSETTO:+0200
TZNAME:CEST
DTSTART:20260329T010000
END:DAYLIGHT
BEGIN:STANDARD
TZOFFSETFROM:+0200
TZOFFSETTO:+0100
TZNAME:CET
DTSTART:20261025T010000
END:STANDARD
END:VTIMEZONE
BEGIN:VEVENT
DTSTART;TZID=Europe/Berlin:20250402T110000
DTEND;TZID=Europe/Berlin:20250402T180000
DTSTAMP:20260425T021921
CREATED:20240815T113531Z
LAST-MODIFIED:20240815T113531Z
UID:5834-1743591600-1743616800@diserhub.de
SUMMARY:Zukunftswerkstatt Automotive Metropolregion Nürnberg
DESCRIPTION:Nach den beiden erfolgreichen Veranstaltungen mit jeweils 350 Teilnehmer:innen in Nürnberg und Amberg findet der große Branchentreff für Autozulieferer des Projekts transform_EMN\, die Zukunftswerkstatt Automotive Metropolregion Nürnberg\, am Mittwoch\, 2. April 2025\, im Kongresshaus Rosengarten in Coburg statt. \nEs erwarten Sie wieder ein vielfältiges Programm zu aktuellen Themen und Impulsen rund um die Transformation der Automobilzulieferbranche in der Metropolregion Nürnberg sowie umfangreiche Vernetzungsmöglichkeiten.
URL:https://diserhub.de/veranstaltung/zukunftswerkstatt-automotive-metropolregion-nuernberg/
LOCATION:Kongresshaus Rosengarten\, Berliner Platz 1\, Coburg\, 96450\, Deutschland
ATTACH;FMTTYPE=image/jpeg:https://diserhub.de/wp-content/uploads/2024/08/ff-e903cbc741d2735a5dc209210490c0af-ff-ZWA24_Eroeffnung_Reiss_cMarcus-Rebmann-Kulturidee-scaled.jpg
END:VEVENT
BEGIN:VEVENT
DTSTART;TZID=Europe/Berlin:20250410T100000
DTEND;TZID=Europe/Berlin:20250410T160000
DTSTAMP:20260425T021921
CREATED:20250328T141017Z
LAST-MODIFIED:20250328T141141Z
UID:6995-1744279200-1744300800@diserhub.de
SUMMARY:Die Batteriewertschöpfungskette in all ihren Facetten
DESCRIPTION:Melden Sie sich noch bis 04.04.2025 zu unserem kostenfreien saaris TraWeBa Tagesevent am Donnerstag\, 10.04.2025 im CFK in Spiesen Elversberg \, bei dem Sie die Chance haben neue Impulse zu erhalten und sich mit Akteuren aus ganz Deutschland und Luxemburg aus der Wertschöpfungskette Batterie zu vernetzten und auszutauschen. \nDas Thema Wertschöpfungskette Batterie (KI\, Automatisierung\, Qualität\, Produktion\, Logistik\, Neue Materialien\, Ladeinfrastruktur uvm.) schreitet trotz vieler politischer Problematiken weiter voran\, aber nicht in dem Tempo wie es notwendig wäre\, aber gerade das eröffnet Unternehmen\, die sich noch nicht intensiv damit beschäftigen die Möglichkeit\, dies mithilfe von TraWeBa noch zu tun und zukünftige Geschäftsfelder im Bereich der Elektromobilität zu identifizieren und sich dazu mit anderen auszutauschen und zu vernetzten. \nDabei werden Möglichkeiten für verschiedene Geschäftsbereiche vorgestellt\, da das Event unter dem Motto „Die Batteriewertschöpfungskette in all ihren Facetten“ steht\, lernen Sie viele Möglichkeiten und aufgrund der Teilnehmerzusammensetzung auch unterschiedliche Regionen kennen.\nVon möglichen Qualitätsprüfungen über Intralogistik\, Batterieherstellung\, Antrieben und Automatisierung mit Firmen wie z. B. CATL\, Clarios\, Fraunhofer FFB werden viele Aspekte beleuchtet und vorgestellt. Ferner wird der saarländische Wirtschaftsminister Herr Jürgen Barke das Grußwort sprechen.
URL:https://diserhub.de/veranstaltung/die-batteriewertschoepfungskette-in-all-ihren-facetten/
LOCATION:Sparkassen BusinessClub\, Schlosshaustraße 162\, Heidenmheim\, Baden-Württemberg\, 89522\, Germany
ATTACH;FMTTYPE=image/jpeg:https://diserhub.de/wp-content/uploads/2025/03/ff-3a022ca4c6ef42f9c0eb6590b1b98a4a-ff-TraWeBa_Veranstaltungsankuendigung-002-scaled.jpg
END:VEVENT
BEGIN:VEVENT
DTSTART;TZID=Europe/Berlin:20250421T110000
DTEND;TZID=Europe/Berlin:20250421T110000
DTSTAMP:20260425T021921
CREATED:20250924T125112Z
LAST-MODIFIED:20250924T125112Z
UID:7711-1745233200-1745233200@diserhub.de
SUMMARY:Digitalisierung und Transformation - Autohäuser zwischen Klemmbrett und humanoidem Roboter
DESCRIPTION:Digitalstudie 2024 von TÜV Nord\, AUTOHAUS und dem Institut für Automobilwirtschaft. Das Online-Seminar beleuchtet die aktuellen Herausforderungen im Automobilhandel und -service: sinkende Konsumlaune\, steigende Werkstattpreise und die anhaltende wirtschaftliche Rezession. Im Mittelpunkt steht die Frage\, was Kundinnen und Kunden heute wirklich erwarten – und warum menschliche Faktoren wie Freundlichkeit\, Fachkompetenz und Empathie entscheidender sind als Hightech-Spielereien. Zugleich zeigt die Studie\, wie digitale Prozesse als „License to operate“ unverzichtbar bleiben\, während der eigentliche Unterschied von Menschen im Verkauf und Service gemacht wird.
URL:https://diserhub.de/veranstaltung/digitalisierung-und-transformation-autohaeuser-zwischen-klemmbrett-und-humanoidem-roboter/
LOCATION:Online
CATEGORIES:Online-Seminar
ATTACH;FMTTYPE=image/png:https://diserhub.de/wp-content/uploads/2025/09/ff-42b895a93821ad7917304b5949ba5846-ff-Digitalstudie-2024.png
END:VEVENT
END:VCALENDAR