BEGIN:VCALENDAR
VERSION:2.0
PRODID:-//DiSerHub - ECPv6.15.20//NONSGML v1.0//EN
CALSCALE:GREGORIAN
METHOD:PUBLISH
X-WR-CALNAME:DiSerHub
X-ORIGINAL-URL:https://diserhub.de
X-WR-CALDESC:Veranstaltungen für DiSerHub
REFRESH-INTERVAL;VALUE=DURATION:PT1H
X-Robots-Tag:noindex
X-PUBLISHED-TTL:PT1H
BEGIN:VTIMEZONE
TZID:Europe/Berlin
BEGIN:DAYLIGHT
TZOFFSETFROM:+0100
TZOFFSETTO:+0200
TZNAME:CEST
DTSTART:20240331T010000
END:DAYLIGHT
BEGIN:STANDARD
TZOFFSETFROM:+0200
TZOFFSETTO:+0100
TZNAME:CET
DTSTART:20241027T010000
END:STANDARD
BEGIN:DAYLIGHT
TZOFFSETFROM:+0100
TZOFFSETTO:+0200
TZNAME:CEST
DTSTART:20250330T010000
END:DAYLIGHT
BEGIN:STANDARD
TZOFFSETFROM:+0200
TZOFFSETTO:+0100
TZNAME:CET
DTSTART:20251026T010000
END:STANDARD
BEGIN:DAYLIGHT
TZOFFSETFROM:+0100
TZOFFSETTO:+0200
TZNAME:CEST
DTSTART:20260329T010000
END:DAYLIGHT
BEGIN:STANDARD
TZOFFSETFROM:+0200
TZOFFSETTO:+0100
TZNAME:CET
DTSTART:20261025T010000
END:STANDARD
END:VTIMEZONE
BEGIN:VEVENT
DTSTART;TZID=Europe/Berlin:20250506T100000
DTEND;TZID=Europe/Berlin:20250506T110000
DTSTAMP:20260425T003739
CREATED:20250407T140422Z
LAST-MODIFIED:20250424T075520Z
UID:7079-1746525600-1746529200@diserhub.de
SUMMARY:Industrial Smart Services – Nachhaltiger Erfolg durch innovative Dienstleistungsangebote
DESCRIPTION:Was ist ein Geschäftsmodell? Wie können Unternehmen über den reinen Produktverkauf hinaus wirtschaftlich wachsen und nachhaltiger werden? Welche zukünftigen Dienstleistungsformen entstehen daraus?\nIn diesem Webinar erhalten Sie wertvolle Einblick zum Themenbereich der Geschäftsmodellinnovationen. Wir zeigen Ihnen\, wie Smart Services im Bereich des Industrial Internet of Things entwickelt werden\, welche Voraussetzungen dafür notwendig sind und welchen Nutzen sie bieten. Anhand verschiedener Demonstratoren und Anwendungsbeispiele des Fraunhofer IWU werden diese Konzepte veranschaulicht.\nNutzen Sie die Gelegenheit\, mehr über zukunftsweisende Geschäftsmodelle und Smart Services zu erfahren und lassen Sie sich inspirieren\, wie Ihr Unternehmen davon profitieren kann. \nAgenda:\n• Geschäftsmodelle und Innovationen\nGrundlagen und Prinzipien innovativer Geschäftsmodelle\nDarstellung aktueller Trends und bewährter Methoden zur Geschäftsmodellinnovation \n• Smart Services im Industrial IoT\nVertiefung in die Konzepte und praktische Umsetzung von Smart Services im Industrial Internet of Things \n• Beispiele aus dem Fraunhofer IWU: Darstellung von intelligenten Produkten und ihren Services \n• Diskussion und Q&A
URL:https://diserhub.de/veranstaltung/die-batteriewertschoepfungskette-in-all-ihren-facetten-2/
LOCATION:Online
CATEGORIES:Online-Seminar
ATTACH;FMTTYPE=image/png:https://diserhub.de/wp-content/uploads/2025/04/ff-ace7dac82b61e86849434267b339a649-ff-TaeApril26-klein.png
END:VEVENT
BEGIN:VEVENT
DTSTART;TZID=Europe/Berlin:20250506T113000
DTEND;TZID=Europe/Berlin:20250506T123000
DTSTAMP:20260425T003739
CREATED:20250424T110707Z
LAST-MODIFIED:20250424T110707Z
UID:7352-1746531000-1746534600@diserhub.de
SUMMARY:Kooperatives Fahren Heute und Morgen
DESCRIPTION:Im Vortrag „Kooperatives Fahren – Heute und Morgen“ beleuchtet Dr.-Ing. Tobias Hardes aktuelle Herausforderungen des Straßenverkehrs und zeigt auf\, wie vernetztes und autonomes Fahren als Schlüsseltechnologien zur Lösung dieser Probleme beitragen können. Anhand konkreter Beispiele wie Truck- und Urban-Platooning\, elektronischen Bremslichtern und virtuellen Ampelanlagen wird demonstriert\, wie sich Effizienz und Sicherheit im Verkehr erhöhen lassen. Darüber hinaus werden ethische Fragestellungen des autonomen Fahrens sowie technische Hürden und offene Forschungsfragen diskutiert.
URL:https://diserhub.de/veranstaltung/kooperatives-fahren-heute-und-morgen/
LOCATION:Online
CATEGORIES:Online-Seminar
ATTACH;FMTTYPE=image/png:https://diserhub.de/wp-content/uploads/2025/04/ff-2e226a9f8e1d147628dafaaeb0a19f19-ff-ChatGPT-Image-Apr-23-2025-01_14_29-PM.png
ORGANIZER;CN="Universit%C3%A4t Paderborn":MAILTO:webmaster@uni-paderborn.de
END:VEVENT
BEGIN:VEVENT
DTSTART;TZID=Europe/Berlin:20250515T123000
DTEND;TZID=Europe/Berlin:20250515T184500
DTSTAMP:20260425T003739
CREATED:20250423T104445Z
LAST-MODIFIED:20250423T104445Z
UID:7300-1747312200-1747334700@diserhub.de
SUMMARY:Transformationskongress Ostwürttemberg 2025
DESCRIPTION:Auch 2025 möchten wir gemeinsam mit Ihnen die Transformation aktiv gestalten. Es gilt\, weiter an Lösungen für die Automobilindustrie und den fahrzeugnahen Maschinenbau zu arbeiten. Für Unternehmen\, Beschäftigte\, Betriebsräte\, Forschung und Entwicklung heißt das: diskutieren\, sich auszutauschen\, an einem Strang ziehen und sich vernetzen. \nDer Kongress hat sich als zentrale Plattform für den fachlichen Austausch innerhalb der Branche etabliert und bietet auch 2025 inspirierende Erfolgsgeschichten\, Strategien und Tipps für den Wandel. Es erwarten Sie zwei zukunftsweisende Keynotes und hochkarätige Referierende\, die in vier Panels Einblicke in Best Practices der Unternehmenstransformation sowie in Neuigkeiten und Trends der Forschungslandschaft geben. \nSeien Sie dabei und melden Sie sich direkt an! Der Transformationskongress wird in Kooperation mit der e-mobil BW GmbH im Rahmen des Transformationsnetzwerks Ostwürttemberg durchgeführt.
URL:https://diserhub.de/veranstaltung/transformationskongress-ostwuerttemberg-2025/
LOCATION:Sparkassen BusinessClub\, Schlosshaustraße 162\, Heidenmheim\, Baden-Württemberg\, 89522\, Germany
ATTACH;FMTTYPE=image/png:https://diserhub.de/wp-content/uploads/2025/04/ff-d5d8373175fdf9204aeeb5edede4bfec-ff-Transformationskongress.png
END:VEVENT
BEGIN:VEVENT
DTSTART;TZID=Europe/Berlin:20250522T090000
DTEND;TZID=Europe/Berlin:20250522T150000
DTSTAMP:20260425T003739
CREATED:20250430T065415Z
LAST-MODIFIED:20250430T065944Z
UID:7356-1747904400-1747926000@diserhub.de
SUMMARY:Software-Defined Vehicle – Was heißt das für die Fahrzeugentwicklung in Deutschland?
DESCRIPTION:Der Transformations-Hub TASTE lädt am 22.05.2025 zum Finale unserer TASTE the Future Reihe nach Berlin zum Mobilitätsinkubator The Drivery ein. \nDer Standort Deutschland steht bei der Entwicklung von Automotive Software in einem harten internationalen Wettbewerb. Bisher erfolgreiche und sich daher nur langsam verändernde Branchenstrukturen\, ein hohes Maß an Regulierung\, unterschiedliche politische Vorstellungen für einen zukünftigen europäischen Automobilmarkt und die Abkehr Chinas und der USA vom Leitgedankens eines freien Weltmarkts bilden die heutigen Rahmenbedingungen für die deutschen Marktteilnehmer. \nWie kann daraus eine Vision entstehen\, die Automotive Software aus Deutschland an die Weltspitze führt? Mit welcher Mission kommen wir in Deutschland zu einer konsequent daten- und nutzerzentrierten Fahrzeugentwicklung\, die zukünftige Kundenwünsche bereits heute antizipiert? \n9:30\nKeynote Prof. Dr. Ina Schaefer (Vorsitzende des Expertenkreis Transformation der Automobilwirtschaft\, KIT)\nImpulsvorträge & Podiumsdiskussion\n– Prof. Dr. Ina Schaefer (KIT)\n– Ernst Stöckel-Pukall (BWMK)\n– Andre Larberg (IAV)\n– Florian Gilcher (Ferrous Systems)\n– Dr. Frank Schreiner (Continental) \n12:30\nKeynote Prof. Dr. Meike Jipp (Bereichsvorständin Energie und Verkehr\, DLR e.V.)\nImpulsvorträge & Podiumsdiskussion\n– Prof. Dr. Meike Jipp (DLR)\n– Jörg Hönicke (VW Nutzfahrzeuge)\n– Thorge Erichsen (Mercedes)\n– Dr. Lea Schwarz (Audi)\n– Oliver Denninger (TASTE)
URL:https://diserhub.de/veranstaltung/software-defined-vehicle-was-heisst-das-fuer-die-fahrzeugentwicklung-in-deutschland/
LOCATION:The Drivery\, Mariendorfer Damm 1\, Berlin\, 12099\, Germany
ATTACH;FMTTYPE=image/png:https://diserhub.de/wp-content/uploads/2025/04/ff-d5d8373175fdf9204aeeb5edede4bfec-ff-Transformationskongress-1.png
ORGANIZER;CN="Transformations-Hub Automotive Software Engineering (TASTE)":MAILTO:denninger@fzi.de
END:VEVENT
END:VCALENDAR