BEGIN:VCALENDAR
VERSION:2.0
PRODID:-//DiSerHub - ECPv6.15.20//NONSGML v1.0//EN
CALSCALE:GREGORIAN
METHOD:PUBLISH
X-WR-CALNAME:DiSerHub
X-ORIGINAL-URL:https://diserhub.de
X-WR-CALDESC:Veranstaltungen für DiSerHub
REFRESH-INTERVAL;VALUE=DURATION:PT1H
X-Robots-Tag:noindex
X-PUBLISHED-TTL:PT1H
BEGIN:VTIMEZONE
TZID:Europe/Berlin
BEGIN:DAYLIGHT
TZOFFSETFROM:+0100
TZOFFSETTO:+0200
TZNAME:CEST
DTSTART:20240331T010000
END:DAYLIGHT
BEGIN:STANDARD
TZOFFSETFROM:+0200
TZOFFSETTO:+0100
TZNAME:CET
DTSTART:20241027T010000
END:STANDARD
BEGIN:DAYLIGHT
TZOFFSETFROM:+0100
TZOFFSETTO:+0200
TZNAME:CEST
DTSTART:20250330T010000
END:DAYLIGHT
BEGIN:STANDARD
TZOFFSETFROM:+0200
TZOFFSETTO:+0100
TZNAME:CET
DTSTART:20251026T010000
END:STANDARD
BEGIN:DAYLIGHT
TZOFFSETFROM:+0100
TZOFFSETTO:+0200
TZNAME:CEST
DTSTART:20260329T010000
END:DAYLIGHT
BEGIN:STANDARD
TZOFFSETFROM:+0200
TZOFFSETTO:+0100
TZNAME:CET
DTSTART:20261025T010000
END:STANDARD
END:VTIMEZONE
BEGIN:VEVENT
DTSTART;VALUE=DATE:20251017
DTEND;VALUE=DATE:20251018
DTSTAMP:20260424T155942
CREATED:20250827T191627Z
LAST-MODIFIED:20250827T192401Z
UID:7563-1760659200-1760745599@diserhub.de
SUMMARY:E4 Testival 2025
DESCRIPTION:Impulse & Insights hautnah erleben \n‚DiSerHub‘ ist am 17. Oktober 2025 auf dem ‚e4 TESTIVAL – New Mobility Driving Experience‘ vertreten. \nDas Festival bietet mit seiner Verbindung aus Probefahrten\, Ausstellungen und direktem Austausch ein unvergleichliches Forum für Entwicklungen der Mobilität von morgen. \nUnser Programm: \n\nImpulsvortrag:\nAktuelle Trends zu digitalen Services und nachhaltiger Mobilität.\nWorkshop:\nPraxisnahes Arbeiten mit ‚DiSerHub‘-Ansätzen.\nMeet the Expert:\nDirekter Austausch mit ‚DiSerHub‘-Fachleuten – fragen\, vernetzen\, mitgestalten.\n\nExklusiv für unsere Community: \nSichert euch euren Platz – nur mit dem Promo-Code DiSerHub100 erhaltet ihr das e4-TESTIVAL-Ticket komplett kostenlos. \nWarum ihr dabei sein müsst: \nKeine fancy Worthülsen\, sondern Klartext – das ist eure Chance\, modernste Mobilitätstechnologie live anzufassen\, den digitalen Transformationshub ‚DiSerHub‘ persönlich zu erleben und Wissen direkt vom Puls der Branche abzuschöpfen. \nEuer Ansprechpartner: Lennardt Söhngen
URL:https://diserhub.de/veranstaltung/e4-testival-2025/
LOCATION:Hockenheimring\, Am Motodrom 1\, Hockenheim\, 68766\, Germany
ATTACH;FMTTYPE=image/jpeg:https://diserhub.de/wp-content/uploads/2025/08/20250917_ff-6a7ea0725426a77964e6134f34a7062b-ff-e4.jpg
END:VEVENT
BEGIN:VEVENT
DTSTART;TZID=Europe/Berlin:20251021T150000
DTEND;TZID=Europe/Berlin:20251022T170000
DTSTAMP:20260424T155942
CREATED:20250123T142446Z
LAST-MODIFIED:20250724T145855Z
UID:6472-1761058800-1761152400@diserhub.de
SUMMARY:Automotive Forum Zwickau
DESCRIPTION:Seit 1997 ist das Automotive Forum Zwickau eine feste Größe im Terminkalender bei Zuliefer- und Automobilbetrieben. Unter dem Slogan „DIE ZUKUNFT IST MOBIL! BRANCHE GEMEINSAM GESTALTEN!“ gibt der Kongress wichtige Impulse\, deckt Trends sowie Strategien auf und fördert den Austausch untereinander. Für ein starkes „WIR“-Gefühl und eine wettbewerbsfähige Automobilindusttäts
URL:https://diserhub.de/veranstaltung/automotive-forum-zwickau/
LOCATION:Rathaus Zwickau\, Hauptmarkt 1\, Zwickau\, 08056\, Germany
ATTACH;FMTTYPE=image/png:https://diserhub.de/wp-content/uploads/2025/01/ff-97dfc9c309bfda41d70bbd50027de2b4-ff-Website-News-Header8.png
ORGANIZER;CN="AMZ - Netzwerk Automobilzulieferer Sachsen":MAILTO:schneider@amz-sachsen.de
END:VEVENT
END:VCALENDAR