BEGIN:VCALENDAR
VERSION:2.0
PRODID:-//DiSerHub - ECPv6.15.20//NONSGML v1.0//EN
CALSCALE:GREGORIAN
METHOD:PUBLISH
X-WR-CALNAME:DiSerHub
X-ORIGINAL-URL:https://diserhub.de
X-WR-CALDESC:Veranstaltungen für DiSerHub
REFRESH-INTERVAL;VALUE=DURATION:PT1H
X-Robots-Tag:noindex
X-PUBLISHED-TTL:PT1H
BEGIN:VTIMEZONE
TZID:Europe/Berlin
BEGIN:DAYLIGHT
TZOFFSETFROM:+0100
TZOFFSETTO:+0200
TZNAME:CEST
DTSTART:20230326T010000
END:DAYLIGHT
BEGIN:STANDARD
TZOFFSETFROM:+0200
TZOFFSETTO:+0100
TZNAME:CET
DTSTART:20231029T010000
END:STANDARD
BEGIN:DAYLIGHT
TZOFFSETFROM:+0100
TZOFFSETTO:+0200
TZNAME:CEST
DTSTART:20240331T010000
END:DAYLIGHT
BEGIN:STANDARD
TZOFFSETFROM:+0200
TZOFFSETTO:+0100
TZNAME:CET
DTSTART:20241027T010000
END:STANDARD
BEGIN:DAYLIGHT
TZOFFSETFROM:+0100
TZOFFSETTO:+0200
TZNAME:CEST
DTSTART:20250330T010000
END:DAYLIGHT
BEGIN:STANDARD
TZOFFSETFROM:+0200
TZOFFSETTO:+0100
TZNAME:CET
DTSTART:20251026T010000
END:STANDARD
END:VTIMEZONE
BEGIN:VEVENT
DTSTART;TZID=Europe/Berlin:20241105T090000
DTEND;TZID=Europe/Berlin:20241106T160000
DTSTAMP:20260420T192123
CREATED:20240604T122247Z
LAST-MODIFIED:20240604T122247Z
UID:5521-1730797200-1730908800@diserhub.de
SUMMARY:Automotive Forum Zwickau 2024
DESCRIPTION:Am 5. und 6. November 2024 ist es wieder soweit. Lassen Sie sich von hochkarätigen Key Notes\, Fachvorträgen\, Workshops und dem beliebten Netzwerkabend am Eröffnungstag begeistern. Nutzen Sie diese einzigartige Gelegenheit\, um sich mit Branchenexperten auszutauschen\, neue Ideen zu entwickeln und aktiv die Zukunft der Automobilindustrie mitzugestalten. Wir freuen uns auf Ihre Teilnahme und darauf\, gemeinsam die Mobilität von morgen zu definieren. \nErleben Sie spannende Themen: \nMarkt und Branche: Globale Strategien\, Veränderungen und die Zukunft der Mobilität\nWettbewerbsfähige Produktion: Automatisierung\, KI-Anwendungen\, Human Resources und innovative Schichtmodelle\nNachhaltigkeit: Neue Wege und Lösungen für eine umweltfreundlichere Produktion\nChancen in neuen Produkten: Erforschen Sie die Möglichkeiten und Innovationen der nächsten Generation \nProgramm \n1. KONGRESSTAG im August Horch Museum Zwickau \nInspirierende Impulse und Big Pictures mit anschließender Abendveranstaltung \nKey Note und Big Picture\nVerleihung des August-Horch-Ehrenpreis\nNetzwerkabend mit Live-Musik und DJ \n2. KONGRESSTAG im Rathaus Zwickau \nHochkarätige Referenten geben Ihnen spannende Einblicke in aktuelle Themen und die Mobilität der Zukunft!\nMarkt und Branche\nWettbewerbsfähige Produktion\nChancen in neuen Produkten \n  \nUnser Netzwerkmanager Dirk Vogel und das Team des AMZ Sachsen holen für Sie hochkarätige Referenten der Automobilbranche auf die Bühne. Besuchen Sie unsere Veranstaltungsseite und informieren Sie sich über diesen einzigartigen Automobilkongress! \n \n  \nZeitplan der Veranstaltung\n1. Kongresstag:\n– 15.30 – 17.00 Uhr: Big Pictures und Key Notes\n– 17.00 – 23.00 Uhr: Netzwerken\, Verleihung des August-Horch-Ehrenpreises\, Netzwerkabend mit Live-Musik und DJ \n2. Kongresstag:\n– 09.00 – 12.30 Uhr: Fachvorträge\n– 12.30 – 14.30. Uhr: Mittagspause\, Fachaussteller\, Workshops\n– 14.30 – 16.00 Uhr: Fachvorträge
URL:https://diserhub.de/veranstaltung/automotive-forum-zwickau-2024/
LOCATION:1. Kongresstag: Audistraße 7\, 08058\, Zwickau 2. Kongresstag: Rathaus Zwickau\, Hauptmarkt 1\, 08056 Zwickau
ATTACH;FMTTYPE=image/jpeg:https://diserhub.de/wp-content/uploads/2024/06/ff-469deeff731da33e4d2314eda5be94b5-ff-DIE-ZUKUNFT-IST-MOBIL-BRANCHE-GEMEINSAM-GESTALTEN.jpg
ORGANIZER;CN="AMZ Sachsen":MAILTO:info@amz-sachsen.de
END:VEVENT
BEGIN:VEVENT
DTSTART;VALUE=DATE:20241106
DTEND;VALUE=DATE:20241108
DTSTAMP:20260420T192123
CREATED:20240524T144405Z
LAST-MODIFIED:20241010T075251Z
UID:5452-1730851200-1731023999@diserhub.de
SUMMARY:Die Zukunft der Mobilität im ländlichen Raum
DESCRIPTION:Das DiSerHub Symposium 2024 findet am 6. und 7. November in Paderborn statt und widmet sich den Zukunftsthemen der Mobilität\, Energie und Digitalisierung in ländlichen Regionen. Neben spannenden Keynotes aus Wissenschaft und Industrie erwarten die Teilnehmenden Podiumsdiskussionen und eine Demonstratorenausstellung. Im Fokus stehen unter anderem nachhaltige Mobilitätslösungen und innovative Geschäftsmodelle. Vernetzen Sie sich mit Expert*innen und erkunden Sie die neuesten Entwicklungen rund um vernetztes Fahren und Energiewende. Melden Sie sich bis zum 30. Oktober kostenlos an! \nAgenda und Möglichkeit zur Anmeldung: https://www.sicp.de/aktuelle-veranstaltungen/diserhub-symposium-2024
URL:https://diserhub.de/veranstaltung/die-zukunft-der-mobilitaet-im-laendlichen-raum/
LOCATION:Zukunftsmeile 2\, Paderborn\, 33102\, Deutschland
ATTACH;FMTTYPE=image/png:https://diserhub.de/wp-content/uploads/2024/05/Bild.png
END:VEVENT
END:VCALENDAR