BEGIN:VCALENDAR
VERSION:2.0
PRODID:-//DiSerHub - ECPv6.15.20//NONSGML v1.0//EN
CALSCALE:GREGORIAN
METHOD:PUBLISH
X-ORIGINAL-URL:https://diserhub.de
X-WR-CALDESC:Veranstaltungen für DiSerHub
REFRESH-INTERVAL;VALUE=DURATION:PT1H
X-Robots-Tag:noindex
X-PUBLISHED-TTL:PT1H
BEGIN:VTIMEZONE
TZID:Europe/Berlin
BEGIN:DAYLIGHT
TZOFFSETFROM:+0100
TZOFFSETTO:+0200
TZNAME:CEST
DTSTART:20230326T010000
END:DAYLIGHT
BEGIN:STANDARD
TZOFFSETFROM:+0200
TZOFFSETTO:+0100
TZNAME:CET
DTSTART:20231029T010000
END:STANDARD
BEGIN:DAYLIGHT
TZOFFSETFROM:+0100
TZOFFSETTO:+0200
TZNAME:CEST
DTSTART:20240331T010000
END:DAYLIGHT
BEGIN:STANDARD
TZOFFSETFROM:+0200
TZOFFSETTO:+0100
TZNAME:CET
DTSTART:20241027T010000
END:STANDARD
BEGIN:DAYLIGHT
TZOFFSETFROM:+0100
TZOFFSETTO:+0200
TZNAME:CEST
DTSTART:20250330T010000
END:DAYLIGHT
BEGIN:STANDARD
TZOFFSETFROM:+0200
TZOFFSETTO:+0100
TZNAME:CET
DTSTART:20251026T010000
END:STANDARD
END:VTIMEZONE
BEGIN:VEVENT
DTSTART;TZID=Europe/Berlin:20241202T130000
DTEND;TZID=Europe/Berlin:20241202T140000
DTSTAMP:20260420T175332
CREATED:20241031T110900Z
LAST-MODIFIED:20241031T112114Z
UID:6174-1733144400-1733148000@diserhub.de
SUMMARY:Ein Auto mit 50 Jahren Lebensdauer?
DESCRIPTION:Das Online-Seminar „Ein Auto mit 50 Jahren Lebensdauer? – Warum digitale Services diese Vision möglich machen“ beleuchtet die Idee eines extrem langlebigen Fahrzeugs\, das durch digitale Innovationen und moderne Services kontinuierlich aktualisiert wird. Themen umfassen modulare Fahrzeugstrukturen\, digitale Zwillinge zur Verfolgbarkeit von Komponenten und Over-the-Air-Updates\, die dafür sorgen\, dass das Fahrzeug technisch immer auf dem neuesten Stand bleibt. Diese Vision verspricht sowohl nachhaltige Nutzung als auch kostengünstige Wartung\, indem wichtige Fahrzeugteile länger genutzt und recycelt werden. Interessierte können hier einen Einblick in die Zukunft der Automobilbranche gewinnen und erfahren\, wie digitale Technologien die Lebensdauer und Effizienz von Fahrzeugen revolutionieren könnten.
URL:https://diserhub.de/veranstaltung/ein-auto-mit-50-jahren-lebensdauer/
CATEGORIES:Online-Seminar
ATTACH;FMTTYPE=image/png:https://diserhub.de/wp-content/uploads/2024/10/Header-Ein-Auto-mit-50-Jahren-Lebensdauer.png
END:VEVENT
END:VCALENDAR