BEGIN:VCALENDAR
VERSION:2.0
PRODID:-//DiSerHub - ECPv6.15.20//NONSGML v1.0//EN
CALSCALE:GREGORIAN
METHOD:PUBLISH
X-ORIGINAL-URL:https://diserhub.de
X-WR-CALDESC:Veranstaltungen für DiSerHub
REFRESH-INTERVAL;VALUE=DURATION:PT1H
X-Robots-Tag:noindex
X-PUBLISHED-TTL:PT1H
BEGIN:VTIMEZONE
TZID:Europe/Berlin
BEGIN:DAYLIGHT
TZOFFSETFROM:+0100
TZOFFSETTO:+0200
TZNAME:CEST
DTSTART:20240331T010000
END:DAYLIGHT
BEGIN:STANDARD
TZOFFSETFROM:+0200
TZOFFSETTO:+0100
TZNAME:CET
DTSTART:20241027T010000
END:STANDARD
BEGIN:DAYLIGHT
TZOFFSETFROM:+0100
TZOFFSETTO:+0200
TZNAME:CEST
DTSTART:20250330T010000
END:DAYLIGHT
BEGIN:STANDARD
TZOFFSETFROM:+0200
TZOFFSETTO:+0100
TZNAME:CET
DTSTART:20251026T010000
END:STANDARD
BEGIN:DAYLIGHT
TZOFFSETFROM:+0100
TZOFFSETTO:+0200
TZNAME:CEST
DTSTART:20260329T010000
END:DAYLIGHT
BEGIN:STANDARD
TZOFFSETFROM:+0200
TZOFFSETTO:+0100
TZNAME:CET
DTSTART:20261025T010000
END:STANDARD
END:VTIMEZONE
BEGIN:VEVENT
DTSTART;TZID=Europe/Berlin:20250604T130000
DTEND;TZID=Europe/Berlin:20250604T140000
DTSTAMP:20260420T065627
CREATED:20250430T083554Z
LAST-MODIFIED:20250430T083554Z
UID:7381-1749042000-1749045600@diserhub.de
SUMMARY:Ein Auto mit 50 Jahren Lebensdauer?
DESCRIPTION:Das Online-Seminar „Ein Auto mit 50 Jahren Lebensdauer? – Warum digitale Services diese Vision möglich machen“ beleuchtet die Idee eines extrem langlebigen Fahrzeugs\, das durch digitale Innovationen und moderne Services kontinuierlich aktualisiert wird. Themen umfassen modulare Fahrzeugstrukturen\, digitale Zwillinge zur Verfolgbarkeit von Komponenten und Over-the-Air-Updates\, die dafür sorgen\, dass das Fahrzeug technisch immer auf dem neuesten Stand bleibt. Diese Vision verspricht sowohl nachhaltige Nutzung als auch kostengünstige Wartung\, indem wichtige Fahrzeugteile länger genutzt und recycelt werden. Interessierte können hier einen Einblick in die Zukunft der Automobilbranche gewinnen und erfahren\, wie digitale Technologien die Lebensdauer und Effizienz von Fahrzeugen revolutionieren könnten.
URL:https://diserhub.de/veranstaltung/ein-auto-mit-50-jahren-lebensdauer-2/
LOCATION:Online
CATEGORIES:Online-Seminar
ATTACH;FMTTYPE=image/png:https://diserhub.de/wp-content/uploads/2024/10/Header-Ein-Auto-mit-50-Jahren-Lebensdauer.png
END:VEVENT
BEGIN:VEVENT
DTSTART;TZID=Europe/Berlin:20250626T093000
DTEND;TZID=Europe/Berlin:20250626T173000
DTSTAMP:20260420T065627
CREATED:20250514T094756Z
LAST-MODIFIED:20250515T065721Z
UID:7432-1750930200-1750959000@diserhub.de
SUMMARY:DiSerHub Expertengipfel zur digitalen Transformation der Automobilindustrie
DESCRIPTION:Von Produktion über Nutzung und Vertrieb bis Verwertung: Wie lassen sich innovative Technologien gezielt nutzen\, um Effizienz zu steigern\, Kundenerlebnisse zu optimieren und Nachhaltigkeit voranzutreiben? Dieser Frage widmen sich führende Expertinnen und Experten aus Forschung und Industrie auf dem DiSerHub Expertengipfel und beleuchten zentrale Herausforderungen und Potenziale der digitalen Transformation – von der Produktion über Vertrieb und Nutzung bis zur nachhaltigen Verwertung von Fahrzeugen.
URL:https://diserhub.de/veranstaltung/diserhub-expertengipfel-zur-digitalen-transformation-der-automobilindustrie/
LOCATION:Motorworld\, Kleine Lokhalle\, Am Ausbesserungswerk 8\, München\, Bayern\, 80939\, Germany
ATTACH;FMTTYPE=image/jpeg:https://diserhub.de/wp-content/uploads/2025/05/ff-9bea3936cc9086350020a0fdc073827e-ff-DiSerHub-Titelbild-scaled.jpg
END:VEVENT
END:VCALENDAR