BEGIN:VCALENDAR
VERSION:2.0
PRODID:-//DiSerHub - ECPv6.15.20//NONSGML v1.0//EN
CALSCALE:GREGORIAN
METHOD:PUBLISH
X-WR-CALNAME:DiSerHub
X-ORIGINAL-URL:https://diserhub.de
X-WR-CALDESC:Veranstaltungen für DiSerHub
REFRESH-INTERVAL;VALUE=DURATION:PT1H
X-Robots-Tag:noindex
X-PUBLISHED-TTL:PT1H
BEGIN:VTIMEZONE
TZID:Europe/Berlin
BEGIN:DAYLIGHT
TZOFFSETFROM:+0100
TZOFFSETTO:+0200
TZNAME:CEST
DTSTART:20240331T010000
END:DAYLIGHT
BEGIN:STANDARD
TZOFFSETFROM:+0200
TZOFFSETTO:+0100
TZNAME:CET
DTSTART:20241027T010000
END:STANDARD
BEGIN:DAYLIGHT
TZOFFSETFROM:+0100
TZOFFSETTO:+0200
TZNAME:CEST
DTSTART:20250330T010000
END:DAYLIGHT
BEGIN:STANDARD
TZOFFSETFROM:+0200
TZOFFSETTO:+0100
TZNAME:CET
DTSTART:20251026T010000
END:STANDARD
BEGIN:DAYLIGHT
TZOFFSETFROM:+0100
TZOFFSETTO:+0200
TZNAME:CEST
DTSTART:20260329T010000
END:DAYLIGHT
BEGIN:STANDARD
TZOFFSETFROM:+0200
TZOFFSETTO:+0100
TZNAME:CET
DTSTART:20261025T010000
END:STANDARD
END:VTIMEZONE
BEGIN:VEVENT
DTSTART;TZID=Europe/Berlin:20251203T110000
DTEND;TZID=Europe/Berlin:20251203T115500
DTSTAMP:20260419T204030
CREATED:20251127T152237Z
LAST-MODIFIED:20251127T152237Z
UID:7981-1764759600-1764762900@diserhub.de
SUMMARY:Kommunikation im Straßenverkehr der Zukunft: Von Blickkontakt zu Lichtsignalen
DESCRIPTION:Im Online-Seminar stellt Jonas Schatton vor\, wie autonome Fahrzeuge in Zukunft mit Fußgänger*innen kommunizieren werden\, ganz ohne Blickkontakt. Anhand aktueller Forschung und internationaler Praxisbeispiele verdeutlicht er\, wie Lichtsignale\, Fahrverhalten und digitale Schnittstellen das Vertrauen zwischen Mensch und Maschine stärken und zur Vermeidung von Unfällen beitragen können.
URL:https://diserhub.de/veranstaltung/kommunikation-im-strassenverkehr-der-zukunft-von-blickkontakt-zu-lichtsignalen/
LOCATION:Online
CATEGORIES:Online-Seminar
ATTACH;FMTTYPE=image/png:https://diserhub.de/wp-content/uploads/2025/11/ff-d23e7bf95deac06e473bf46ec1fe4074-ff-Online-Seminar_Kommunikation_im_Strassenverkehr_der_Zukunft.png
END:VEVENT
END:VCALENDAR